BEGIN:VCALENDAR
VERSION:2.0
PRODID:-//Szigetszentmiklósi Ádám Jenő Általános Iskola és AMI - ECPv6.11.2.1//NONSGML v1.0//EN
CALSCALE:GREGORIAN
METHOD:PUBLISH
X-ORIGINAL-URL:https://ajti.hu
X-WR-CALDESC:Events for Szigetszentmiklósi Ádám Jenő Általános Iskola és AMI
REFRESH-INTERVAL;VALUE=DURATION:PT1H
X-Robots-Tag:noindex
X-PUBLISHED-TTL:PT1H
BEGIN:VTIMEZONE
TZID:Europe/Paris
BEGIN:DAYLIGHT
TZOFFSETFROM:+0100
TZOFFSETTO:+0200
TZNAME:CEST
DTSTART:20220327T010000
END:DAYLIGHT
BEGIN:STANDARD
TZOFFSETFROM:+0200
TZOFFSETTO:+0100
TZNAME:CET
DTSTART:20221030T010000
END:STANDARD
END:VTIMEZONE
BEGIN:VEVENT
DTSTART;VALUE=DATE:20220110
DTEND;VALUE=DATE:20220123
DTSTAMP:20260423T060022
CREATED:20220110T063800Z
LAST-MODIFIED:20220110T063800Z
UID:307-1641772800-1642895999@ajti.hu
SUMMARY:Félévi tanszaki vizsgahangversenyek
DESCRIPTION:
URL:https://ajti.hu/event/felevi-tanszaki-vizsgahangversenyek/
END:VEVENT
BEGIN:VEVENT
DTSTART;VALUE=DATE:20220121
DTEND;VALUE=DATE:20220122
DTSTAMP:20260423T060022
CREATED:20220110T063842Z
LAST-MODIFIED:20220110T063842Z
UID:309-1642723200-1642809599@ajti.hu
SUMMARY:I. félév szorgalmi idejének a vége
DESCRIPTION:
URL:https://ajti.hu/event/i-felev-szorgalmi-idejenek-a-vege/
END:VEVENT
BEGIN:VEVENT
DTSTART;VALUE=DATE:20220121
DTEND;VALUE=DATE:20220122
DTSTAMP:20260423T060022
CREATED:20220110T064044Z
LAST-MODIFIED:20220110T064044Z
UID:311-1642723200-1642809599@ajti.hu
SUMMARY:Megemlékezés a Magyar Kultúra Napjáról (rádiós)
DESCRIPTION:
URL:https://ajti.hu/event/megemlekezes-a-magyar-kultura-napjarol-radios/
END:VEVENT
END:VCALENDAR