BEGIN:VCALENDAR
VERSION:2.0
PRODID:-//Szigetszentmiklósi Ádám Jenő Általános Iskola és AMI - ECPv6.11.2.1//NONSGML v1.0//EN
CALSCALE:GREGORIAN
METHOD:PUBLISH
X-WR-CALNAME:Szigetszentmiklósi Ádám Jenő Általános Iskola és AMI
X-ORIGINAL-URL:https://ajti.hu
X-WR-CALDESC:Events for Szigetszentmiklósi Ádám Jenő Általános Iskola és AMI
REFRESH-INTERVAL;VALUE=DURATION:PT1H
X-Robots-Tag:noindex
X-PUBLISHED-TTL:PT1H
BEGIN:VTIMEZONE
TZID:Europe/Paris
BEGIN:DAYLIGHT
TZOFFSETFROM:+0100
TZOFFSETTO:+0200
TZNAME:CEST
DTSTART:20220327T010000
END:DAYLIGHT
BEGIN:STANDARD
TZOFFSETFROM:+0200
TZOFFSETTO:+0100
TZNAME:CET
DTSTART:20221030T010000
END:STANDARD
END:VTIMEZONE
BEGIN:VEVENT
DTSTART;VALUE=DATE:20220315
DTEND;VALUE=DATE:20220316
DTSTAMP:20260423T012824
CREATED:20220311T100736Z
LAST-MODIFIED:20220311T100736Z
UID:757-1647302400-1647388799@ajti.hu
SUMMARY:Ünnepi megemlékezés- helyszín: Városi Temető\, Polgármesteri Hivatal
DESCRIPTION:
URL:https://ajti.hu/event/unnepi-megemlekezes-helyszin-varosi-temeto-polgarmesteri-hivatal/
END:VEVENT
BEGIN:VEVENT
DTSTART;VALUE=DATE:20220315
DTEND;VALUE=DATE:20220316
DTSTAMP:20260423T012824
CREATED:20220311T100801Z
LAST-MODIFIED:20220311T100801Z
UID:759-1647302400-1647388799@ajti.hu
SUMMARY:Nemzeti ünnep – városi fanfár\, fúvószenekar
DESCRIPTION:
URL:https://ajti.hu/event/nemzeti-unnep-varosi-fanfar-fuvoszenekar/
END:VEVENT
END:VCALENDAR