BEGIN:VCALENDAR
VERSION:2.0
PRODID:-//Szigetszentmiklósi Ádám Jenő Általános Iskola és AMI - ECPv6.11.2.1//NONSGML v1.0//EN
CALSCALE:GREGORIAN
METHOD:PUBLISH
X-WR-CALNAME:Szigetszentmiklósi Ádám Jenő Általános Iskola és AMI
X-ORIGINAL-URL:https://ajti.hu
X-WR-CALDESC:Events for Szigetszentmiklósi Ádám Jenő Általános Iskola és AMI
REFRESH-INTERVAL;VALUE=DURATION:PT1H
X-Robots-Tag:noindex
X-PUBLISHED-TTL:PT1H
BEGIN:VTIMEZONE
TZID:Europe/Paris
BEGIN:DAYLIGHT
TZOFFSETFROM:+0100
TZOFFSETTO:+0200
TZNAME:CEST
DTSTART:20220327T010000
END:DAYLIGHT
BEGIN:STANDARD
TZOFFSETFROM:+0200
TZOFFSETTO:+0100
TZNAME:CET
DTSTART:20221030T010000
END:STANDARD
END:VTIMEZONE
BEGIN:VEVENT
DTSTART;VALUE=DATE:20220408
DTEND;VALUE=DATE:20220409
DTSTAMP:20260422T235118
CREATED:20220401T110209Z
LAST-MODIFIED:20220401T110217Z
UID:871-1649376000-1649462399@ajti.hu
SUMMARY:Adománygyűjtő hangverseny Híd Kárpátaljáért segélykoncert
DESCRIPTION:
URL:https://ajti.hu/event/adomanygyujto-hangverseny-hid-karpataljaert-segelykoncert/
END:VEVENT
BEGIN:VEVENT
DTSTART;VALUE=DATE:20220408
DTEND;VALUE=DATE:20220409
DTSTAMP:20260422T235118
CREATED:20220401T110240Z
LAST-MODIFIED:20220401T110240Z
UID:873-1649376000-1649462399@ajti.hu
SUMMARY:LEP
DESCRIPTION:
URL:https://ajti.hu/event/lep-2/
END:VEVENT
BEGIN:VEVENT
DTSTART;VALUE=DATE:20220408
DTEND;VALUE=DATE:20220409
DTSTAMP:20260422T235118
CREATED:20220401T110303Z
LAST-MODIFIED:20220401T110310Z
UID:875-1649376000-1649462399@ajti.hu
SUMMARY:Weöres Sándor területi rajzverseny (díjátadó\, kiállítás megnyitás)
DESCRIPTION:
URL:https://ajti.hu/event/weores-sandor-teruleti-rajzverseny-dijatado-kiallitas-megnyitas/
END:VEVENT
BEGIN:VEVENT
DTSTART;VALUE=DATE:20220409
DTEND;VALUE=DATE:20220410
DTSTAMP:20260422T235118
CREATED:20220401T110337Z
LAST-MODIFIED:20220401T110337Z
UID:877-1649462400-1649548799@ajti.hu
SUMMARY:Országos Kerámia és Szobrászat Verseny (Csepel-döntő)
DESCRIPTION:
URL:https://ajti.hu/event/orszagos-keramia-es-szobraszat-verseny-csepel-donto/
END:VEVENT
END:VCALENDAR