BEGIN:VCALENDAR
VERSION:2.0
PRODID:-//Szigetszentmiklósi Ádám Jenő Általános Iskola és AMI - ECPv6.11.2.1//NONSGML v1.0//EN
CALSCALE:GREGORIAN
METHOD:PUBLISH
X-ORIGINAL-URL:https://ajti.hu
X-WR-CALDESC:Events for Szigetszentmiklósi Ádám Jenő Általános Iskola és AMI
REFRESH-INTERVAL;VALUE=DURATION:PT1H
X-Robots-Tag:noindex
X-PUBLISHED-TTL:PT1H
BEGIN:VTIMEZONE
TZID:Europe/Paris
BEGIN:DAYLIGHT
TZOFFSETFROM:+0100
TZOFFSETTO:+0200
TZNAME:CEST
DTSTART:20220327T010000
END:DAYLIGHT
BEGIN:STANDARD
TZOFFSETFROM:+0200
TZOFFSETTO:+0100
TZNAME:CET
DTSTART:20221030T010000
END:STANDARD
END:VTIMEZONE
BEGIN:VEVENT
DTSTART;VALUE=DATE:20220410
DTEND;VALUE=DATE:20220411
DTSTAMP:20260423T012820
CREATED:20220401T110401Z
LAST-MODIFIED:20220401T110401Z
UID:879-1649548800-1649635199@ajti.hu
SUMMARY:Miklósi Futónap
DESCRIPTION:
URL:https://ajti.hu/event/miklosi-futonap/
END:VEVENT
BEGIN:VEVENT
DTSTART;VALUE=DATE:20220411
DTEND;VALUE=DATE:20220412
DTSTAMP:20260423T012820
CREATED:20220401T110546Z
LAST-MODIFIED:20220401T110546Z
UID:881-1649635200-1649721599@ajti.hu
SUMMARY:József Attila vetélkedő
DESCRIPTION:
URL:https://ajti.hu/event/jozsef-attila-vetelkedo/
END:VEVENT
BEGIN:VEVENT
DTSTART;VALUE=DATE:20220411
DTEND;VALUE=DATE:20220412
DTSTAMP:20260423T012820
CREATED:20220401T110610Z
LAST-MODIFIED:20220401T110610Z
UID:883-1649635200-1649721599@ajti.hu
SUMMARY:Városi szavalóverseny
DESCRIPTION:
URL:https://ajti.hu/event/varosi-szavaloverseny/
END:VEVENT
BEGIN:VEVENT
DTSTART;TZID=Europe/Paris:20220411T160000
DTEND;TZID=Europe/Paris:20220411T170000
DTSTAMP:20260423T012820
CREATED:20220401T110703Z
LAST-MODIFIED:20220401T110703Z
UID:885-1649692800-1649696400@ajti.hu
SUMMARY:Tantestületi értekezlet
DESCRIPTION:
URL:https://ajti.hu/event/tantestuleti-ertekezlet/
END:VEVENT
END:VCALENDAR