BEGIN:VCALENDAR
VERSION:2.0
PRODID:-//Szigetszentmiklósi Ádám Jenő Általános Iskola és AMI - ECPv6.11.2.1//NONSGML v1.0//EN
CALSCALE:GREGORIAN
METHOD:PUBLISH
X-ORIGINAL-URL:https://ajti.hu
X-WR-CALDESC:Events for Szigetszentmiklósi Ádám Jenő Általános Iskola és AMI
REFRESH-INTERVAL;VALUE=DURATION:PT1H
X-Robots-Tag:noindex
X-PUBLISHED-TTL:PT1H
BEGIN:VTIMEZONE
TZID:Europe/Paris
BEGIN:DAYLIGHT
TZOFFSETFROM:+0100
TZOFFSETTO:+0200
TZNAME:CEST
DTSTART:20220327T010000
END:DAYLIGHT
BEGIN:STANDARD
TZOFFSETFROM:+0200
TZOFFSETTO:+0100
TZNAME:CET
DTSTART:20221030T010000
END:STANDARD
END:VTIMEZONE
BEGIN:VEVENT
DTSTART;VALUE=DATE:20220504
DTEND;VALUE=DATE:20220518
DTSTAMP:20260422T235220
CREATED:20220509T074745Z
LAST-MODIFIED:20220509T074745Z
UID:1168-1651622400-1652831999@ajti.hu
SUMMARY:Országos kompetenciamérés (8. évf.)
DESCRIPTION:05.04.\,05.05.-8. d 800-1205\n05.06.\,05.09.-8. é 800-1205\n05.11.\, 05.12.-8.i 800-1205\nPótnapok: 05.16.\,05.17.  800-1205
URL:https://ajti.hu/event/orszagos-kompetenciameres-8-evf/
END:VEVENT
END:VCALENDAR