BEGIN:VCALENDAR
VERSION:2.0
PRODID:-//Szigetszentmiklósi Ádám Jenő Általános Iskola és AMI - ECPv6.11.2.1//NONSGML v1.0//EN
CALSCALE:GREGORIAN
METHOD:PUBLISH
X-ORIGINAL-URL:https://ajti.hu
X-WR-CALDESC:Events for Szigetszentmiklósi Ádám Jenő Általános Iskola és AMI
REFRESH-INTERVAL;VALUE=DURATION:PT1H
X-Robots-Tag:noindex
X-PUBLISHED-TTL:PT1H
BEGIN:VTIMEZONE
TZID:Europe/Paris
BEGIN:DAYLIGHT
TZOFFSETFROM:+0100
TZOFFSETTO:+0200
TZNAME:CEST
DTSTART:20220327T010000
END:DAYLIGHT
BEGIN:STANDARD
TZOFFSETFROM:+0200
TZOFFSETTO:+0100
TZNAME:CET
DTSTART:20221030T010000
END:STANDARD
END:VTIMEZONE
BEGIN:VEVENT
DTSTART;VALUE=DATE:20220518
DTEND;VALUE=DATE:20220601
DTSTAMP:20260422T204757
CREATED:20220509T080334Z
LAST-MODIFIED:20220509T080334Z
UID:1182-1652832000-1654041599@ajti.hu
SUMMARY:Országos kompetenciamérés (6. évf.)
DESCRIPTION:
URL:https://ajti.hu/event/orszagos-kompetenciameres-6-evf/
END:VEVENT
BEGIN:VEVENT
DTSTART;VALUE=DATE:20220523
DTEND;VALUE=DATE:20220609
DTSTAMP:20260422T204757
CREATED:20220509T080405Z
LAST-MODIFIED:20220509T080405Z
UID:1184-1653264000-1654732799@ajti.hu
SUMMARY:Hangszeres zártkörű vizsgák (kamaraterem)
DESCRIPTION:
URL:https://ajti.hu/event/hangszeres-zartkoru-vizsgak-kamaraterem/
END:VEVENT
BEGIN:VEVENT
DTSTART;VALUE=DATE:20220528
DTEND;VALUE=DATE:20220529
DTSTAMP:20260422T204757
CREATED:20220509T080653Z
LAST-MODIFIED:20220509T080653Z
UID:1192-1653696000-1653782399@ajti.hu
SUMMARY:Monarchia Zeneművészeti Egyesület-döntő-néptánc
DESCRIPTION:
URL:https://ajti.hu/event/monarchia-zenemuveszeti-egyesulet-donto-neptanc/
END:VEVENT
BEGIN:VEVENT
DTSTART;VALUE=DATE:20220529
DTEND;VALUE=DATE:20220530
DTSTAMP:20260422T204757
CREATED:20220509T080719Z
LAST-MODIFIED:20220509T080719Z
UID:1194-1653782400-1653868799@ajti.hu
SUMMARY:Monarchia Zeneművészeti Egyesület-díjátadó
DESCRIPTION:
URL:https://ajti.hu/event/monarchia-zenemuveszeti-egyesulet-dijatado/
END:VEVENT
END:VCALENDAR