BEGIN:VCALENDAR
VERSION:2.0
PRODID:-//Szigetszentmiklósi Ádám Jenő Általános Iskola és AMI - ECPv6.11.2.1//NONSGML v1.0//EN
CALSCALE:GREGORIAN
METHOD:PUBLISH
X-WR-CALNAME:Szigetszentmiklósi Ádám Jenő Általános Iskola és AMI
X-ORIGINAL-URL:https://ajti.hu
X-WR-CALDESC:Events for Szigetszentmiklósi Ádám Jenő Általános Iskola és AMI
REFRESH-INTERVAL;VALUE=DURATION:PT1H
X-Robots-Tag:noindex
X-PUBLISHED-TTL:PT1H
BEGIN:VTIMEZONE
TZID:Europe/Paris
BEGIN:DAYLIGHT
TZOFFSETFROM:+0100
TZOFFSETTO:+0200
TZNAME:CEST
DTSTART:20220327T010000
END:DAYLIGHT
BEGIN:STANDARD
TZOFFSETFROM:+0200
TZOFFSETTO:+0100
TZNAME:CET
DTSTART:20221030T010000
END:STANDARD
END:VTIMEZONE
BEGIN:VEVENT
DTSTART;VALUE=DATE:20220523
DTEND;VALUE=DATE:20220609
DTSTAMP:20260422T190725
CREATED:20220509T080405Z
LAST-MODIFIED:20220509T080405Z
UID:1184-1653264000-1654732799@ajti.hu
SUMMARY:Hangszeres zártkörű vizsgák (kamaraterem)
DESCRIPTION:
URL:https://ajti.hu/event/hangszeres-zartkoru-vizsgak-kamaraterem/
END:VEVENT
BEGIN:VEVENT
DTSTART;VALUE=DATE:20220601
DTEND;VALUE=DATE:20220605
DTSTAMP:20260422T190725
CREATED:20220531T105534Z
LAST-MODIFIED:20220531T105534Z
UID:1324-1654041600-1654387199@ajti.hu
SUMMARY:Erdei iskola – 4. évfolyam
DESCRIPTION:
URL:https://ajti.hu/event/erdei-iskola-4-evfolyam/
END:VEVENT
BEGIN:VEVENT
DTSTART;VALUE=DATE:20220601
DTEND;VALUE=DATE:20220605
DTSTAMP:20260422T190725
CREATED:20220531T105605Z
LAST-MODIFIED:20220531T105605Z
UID:1326-1654041600-1654387199@ajti.hu
SUMMARY:Osztálykirándulások
DESCRIPTION:
URL:https://ajti.hu/event/osztalykirandulasok/
END:VEVENT
END:VCALENDAR