BEGIN:VCALENDAR
VERSION:2.0
PRODID:-//Szigetszentmiklósi Ádám Jenő Általános Iskola és AMI - ECPv6.11.2.1//NONSGML v1.0//EN
CALSCALE:GREGORIAN
METHOD:PUBLISH
X-ORIGINAL-URL:https://ajti.hu
X-WR-CALDESC:Events for Szigetszentmiklósi Ádám Jenő Általános Iskola és AMI
REFRESH-INTERVAL;VALUE=DURATION:PT1H
X-Robots-Tag:noindex
X-PUBLISHED-TTL:PT1H
BEGIN:VTIMEZONE
TZID:Europe/Paris
BEGIN:DAYLIGHT
TZOFFSETFROM:+0100
TZOFFSETTO:+0200
TZNAME:CEST
DTSTART:20220327T010000
END:DAYLIGHT
BEGIN:STANDARD
TZOFFSETFROM:+0200
TZOFFSETTO:+0100
TZNAME:CET
DTSTART:20221030T010000
END:STANDARD
END:VTIMEZONE
BEGIN:VEVENT
DTSTART;VALUE=DATE:20220613
DTEND;VALUE=DATE:20220614
DTSTAMP:20260422T204752
CREATED:20220531T110329Z
LAST-MODIFIED:20220531T110329Z
UID:1345-1655078400-1655164799@ajti.hu
SUMMARY:Osztályozó értekezlet
DESCRIPTION:felső tagozat:14:00; alsó tagozat:16:00 (tanári)
URL:https://ajti.hu/event/osztalyozo-ertekezlet/
END:VEVENT
BEGIN:VEVENT
DTSTART;VALUE=DATE:20220613
DTEND;VALUE=DATE:20220614
DTSTAMP:20260422T204752
CREATED:20220531T110440Z
LAST-MODIFIED:20220531T110440Z
UID:1347-1655078400-1655164799@ajti.hu
SUMMARY:Padlás-vizsgaelőadás
DESCRIPTION:
URL:https://ajti.hu/event/padlas-vizsgaeloadas/
END:VEVENT
BEGIN:VEVENT
DTSTART;VALUE=DATE:20220613
DTEND;VALUE=DATE:20220614
DTSTAMP:20260422T204752
CREATED:20220531T110503Z
LAST-MODIFIED:20220531T110503Z
UID:1349-1655078400-1655164799@ajti.hu
SUMMARY:Sport –egészségnap a DÖK szervezésében
DESCRIPTION:
URL:https://ajti.hu/event/sport-egeszsegnap-a-dok-szervezeseben/
END:VEVENT
BEGIN:VEVENT
DTSTART;VALUE=DATE:20220613
DTEND;VALUE=DATE:20220614
DTSTAMP:20260422T204752
CREATED:20220531T110529Z
LAST-MODIFIED:20220531T110529Z
UID:1351-1655078400-1655164799@ajti.hu
SUMMARY:Naplók lezárása
DESCRIPTION:
URL:https://ajti.hu/event/naplok-lezarasa/
END:VEVENT
BEGIN:VEVENT
DTSTART;VALUE=DATE:20220613
DTEND;VALUE=DATE:20220614
DTSTAMP:20260422T204752
CREATED:20220531T110615Z
LAST-MODIFIED:20220531T110615Z
UID:1353-1655078400-1655164799@ajti.hu
SUMMARY:Értékelések elkészítése
DESCRIPTION:
URL:https://ajti.hu/event/ertekelesek-elkeszitese/
END:VEVENT
BEGIN:VEVENT
DTSTART;VALUE=DATE:20220613
DTEND;VALUE=DATE:20220614
DTSTAMP:20260422T204752
CREATED:20220531T111713Z
LAST-MODIFIED:20220531T111713Z
UID:1355-1655078400-1655164799@ajti.hu
SUMMARY:Bizonyítványok megírása
DESCRIPTION:
URL:https://ajti.hu/event/bizonyitvanyok-megirasa/
END:VEVENT
BEGIN:VEVENT
DTSTART;VALUE=DATE:20220613
DTEND;VALUE=DATE:20220614
DTSTAMP:20260422T204752
CREATED:20220531T111754Z
LAST-MODIFIED:20220531T111754Z
UID:1357-1655078400-1655164799@ajti.hu
SUMMARY:Bizonyítványok\, e-naplók\, anyakönyvek ellenőrzése
DESCRIPTION:
URL:https://ajti.hu/event/bizonyitvanyok-e-naplok-anyakonyvek-ellenorzese/
END:VEVENT
END:VCALENDAR