BEGIN:VCALENDAR
VERSION:2.0
PRODID:-//Szigetszentmiklósi Ádám Jenő Általános Iskola és AMI - ECPv6.11.2.1//NONSGML v1.0//EN
CALSCALE:GREGORIAN
METHOD:PUBLISH
X-WR-CALNAME:Szigetszentmiklósi Ádám Jenő Általános Iskola és AMI
X-ORIGINAL-URL:https://ajti.hu
X-WR-CALDESC:Events for Szigetszentmiklósi Ádám Jenő Általános Iskola és AMI
REFRESH-INTERVAL;VALUE=DURATION:PT1H
X-Robots-Tag:noindex
X-PUBLISHED-TTL:PT1H
BEGIN:VTIMEZONE
TZID:Europe/Paris
BEGIN:DAYLIGHT
TZOFFSETFROM:+0100
TZOFFSETTO:+0200
TZNAME:CEST
DTSTART:20220327T010000
END:DAYLIGHT
BEGIN:STANDARD
TZOFFSETFROM:+0200
TZOFFSETTO:+0100
TZNAME:CET
DTSTART:20221030T010000
END:STANDARD
END:VTIMEZONE
BEGIN:VEVENT
DTSTART;VALUE=DATE:20220621
DTEND;VALUE=DATE:20220622
DTSTAMP:20260422T204709
CREATED:20220531T112513Z
LAST-MODIFIED:20220531T112513Z
UID:1370-1655769600-1655855999@ajti.hu
SUMMARY:Művészeti intézményegység zene tanévzáró
DESCRIPTION:19:00- Szabadtéri színpad 19:30 Zeneművészeti bizonyítványosztás a termekben.
URL:https://ajti.hu/event/muveszeti-intezmenyegyseg-zene-tanevzaro/
END:VEVENT
BEGIN:VEVENT
DTSTART;VALUE=DATE:20220621
DTEND;VALUE=DATE:20220622
DTSTAMP:20260422T204709
CREATED:20220531T112546Z
LAST-MODIFIED:20220531T112546Z
UID:1372-1655769600-1655855999@ajti.hu
SUMMARY:A Zene Ünnepe\, Hangverseny
DESCRIPTION:20:00
URL:https://ajti.hu/event/a-zene-unnepe-hangverseny/
END:VEVENT
END:VCALENDAR