BEGIN:VCALENDAR
VERSION:2.0
PRODID:-//Szigetszentmiklósi Ádám Jenő Általános Iskola és AMI - ECPv6.11.2.1//NONSGML v1.0//EN
CALSCALE:GREGORIAN
METHOD:PUBLISH
X-WR-CALNAME:Szigetszentmiklósi Ádám Jenő Általános Iskola és AMI
X-ORIGINAL-URL:https://ajti.hu
X-WR-CALDESC:Events for Szigetszentmiklósi Ádám Jenő Általános Iskola és AMI
REFRESH-INTERVAL;VALUE=DURATION:PT1H
X-Robots-Tag:noindex
X-PUBLISHED-TTL:PT1H
BEGIN:VTIMEZONE
TZID:Europe/Paris
BEGIN:DAYLIGHT
TZOFFSETFROM:+0100
TZOFFSETTO:+0200
TZNAME:CEST
DTSTART:20220327T010000
END:DAYLIGHT
BEGIN:STANDARD
TZOFFSETFROM:+0200
TZOFFSETTO:+0100
TZNAME:CET
DTSTART:20221030T010000
END:STANDARD
END:VTIMEZONE
BEGIN:VEVENT
DTSTART;VALUE=DATE:20221003
DTEND;VALUE=DATE:20221004
DTSTAMP:20260420T133515
CREATED:20221007T083619Z
LAST-MODIFIED:20221007T083619Z
UID:1646-1664755200-1664841599@ajti.hu
SUMMARY:Munkavédelmi\, tűz és balesetvédelmi oktatás
DESCRIPTION:
URL:https://ajti.hu/event/munkavedelmi-tuz-es-balesetvedelmi-oktatas/
END:VEVENT
BEGIN:VEVENT
DTSTART;VALUE=DATE:20221003
DTEND;VALUE=DATE:20221004
DTSTAMP:20260420T133515
CREATED:20221007T083911Z
LAST-MODIFIED:20221007T083911Z
UID:1648-1664755200-1664841599@ajti.hu
SUMMARY:Benedek Elek városi mesemondó verseny (alsó)
DESCRIPTION:
URL:https://ajti.hu/event/benedek-elek-varosi-mesemondo-verseny-also/
END:VEVENT
BEGIN:VEVENT
DTSTART;VALUE=DATE:20221003
DTEND;VALUE=DATE:20221004
DTSTAMP:20260420T133515
CREATED:20221007T084343Z
LAST-MODIFIED:20221007T084343Z
UID:1656-1664755200-1664841599@ajti.hu
SUMMARY:Városi Idősek Napja
DESCRIPTION:
URL:https://ajti.hu/event/varosi-idosek-napja/
END:VEVENT
BEGIN:VEVENT
DTSTART;VALUE=DATE:20221004
DTEND;VALUE=DATE:20221005
DTSTAMP:20260420T133515
CREATED:20221007T084115Z
LAST-MODIFIED:20221007T084115Z
UID:1650-1664841600-1664927999@ajti.hu
SUMMARY:Állatok Világnapja
DESCRIPTION:
URL:https://ajti.hu/event/allatok-vilagnapja/
END:VEVENT
BEGIN:VEVENT
DTSTART;VALUE=DATE:20221004
DTEND;VALUE=DATE:20221005
DTSTAMP:20260420T133515
CREATED:20221007T084155Z
LAST-MODIFIED:20221007T084155Z
UID:1652-1664841600-1664927999@ajti.hu
SUMMARY:Zeneovis foglalkozások indítása városi óvodákban
DESCRIPTION:
URL:https://ajti.hu/event/zeneovis-foglalkozasok-inditasa-varosi-ovodakban/
END:VEVENT
BEGIN:VEVENT
DTSTART;VALUE=DATE:20221004
DTEND;VALUE=DATE:20221005
DTSTAMP:20260420T133515
CREATED:20221007T084237Z
LAST-MODIFIED:20221007T084237Z
UID:1654-1664841600-1664927999@ajti.hu
SUMMARY:Benedek Elek városi mesemondó verseny (felső)
DESCRIPTION:
URL:https://ajti.hu/event/benedek-elek-varosi-mesemondo-verseny-felso/
END:VEVENT
END:VCALENDAR