BEGIN:VCALENDAR
VERSION:2.0
PRODID:-//Szigetszentmiklósi Ádám Jenő Általános Iskola és AMI - ECPv6.11.2.1//NONSGML v1.0//EN
CALSCALE:GREGORIAN
METHOD:PUBLISH
X-ORIGINAL-URL:https://ajti.hu
X-WR-CALDESC:Events for Szigetszentmiklósi Ádám Jenő Általános Iskola és AMI
REFRESH-INTERVAL;VALUE=DURATION:PT1H
X-Robots-Tag:noindex
X-PUBLISHED-TTL:PT1H
BEGIN:VTIMEZONE
TZID:Europe/Paris
BEGIN:DAYLIGHT
TZOFFSETFROM:+0100
TZOFFSETTO:+0200
TZNAME:CEST
DTSTART:20220327T010000
END:DAYLIGHT
BEGIN:STANDARD
TZOFFSETFROM:+0200
TZOFFSETTO:+0100
TZNAME:CET
DTSTART:20221030T010000
END:STANDARD
END:VTIMEZONE
BEGIN:VEVENT
DTSTART;VALUE=DATE:20221018
DTEND;VALUE=DATE:20221019
DTSTAMP:20260420T133535
CREATED:20221007T105246Z
LAST-MODIFIED:20221007T105246Z
UID:1688-1666051200-1666137599@ajti.hu
SUMMARY:8.d Bemeneti mérés 1-4. óra (természettudomány\, idegen nyelv)
DESCRIPTION:
URL:https://ajti.hu/event/8-d-bemeneti-meres-1-4-ora-termeszettudomany-idegen-nyelv/
END:VEVENT
BEGIN:VEVENT
DTSTART;VALUE=DATE:20221019
DTEND;VALUE=DATE:20221020
DTSTAMP:20260420T133535
CREATED:20221007T105319Z
LAST-MODIFIED:20221007T105319Z
UID:1690-1666137600-1666223999@ajti.hu
SUMMARY:Zrínyi matematikaverseny nevezés
DESCRIPTION:
URL:https://ajti.hu/event/zrinyi-matematikaverseny-nevezes-2/
END:VEVENT
END:VCALENDAR