BEGIN:VCALENDAR
VERSION:2.0
PRODID:-//Szigetszentmiklósi Ádám Jenő Általános Iskola és AMI - ECPv6.11.2.1//NONSGML v1.0//EN
CALSCALE:GREGORIAN
METHOD:PUBLISH
X-ORIGINAL-URL:https://ajti.hu
X-WR-CALDESC:Events for Szigetszentmiklósi Ádám Jenő Általános Iskola és AMI
REFRESH-INTERVAL;VALUE=DURATION:PT1H
X-Robots-Tag:noindex
X-PUBLISHED-TTL:PT1H
BEGIN:VTIMEZONE
TZID:Europe/Paris
BEGIN:DAYLIGHT
TZOFFSETFROM:+0100
TZOFFSETTO:+0200
TZNAME:CEST
DTSTART:20220327T010000
END:DAYLIGHT
BEGIN:STANDARD
TZOFFSETFROM:+0200
TZOFFSETTO:+0100
TZNAME:CET
DTSTART:20221030T010000
END:STANDARD
END:VTIMEZONE
BEGIN:VEVENT
DTSTART;VALUE=DATE:20221027
DTEND;VALUE=DATE:20221028
DTSTAMP:20260420T133539
CREATED:20221007T110252Z
LAST-MODIFIED:20221007T110252Z
UID:1708-1666828800-1666915199@ajti.hu
SUMMARY:Bolyai természettudományi csapatverseny nevezés
DESCRIPTION:
URL:https://ajti.hu/event/bolyai-termeszettudomanyi-csapatverseny-nevezes/
END:VEVENT
BEGIN:VEVENT
DTSTART;VALUE=DATE:20221027
DTEND;VALUE=DATE:20221028
DTSTAMP:20260420T133539
CREATED:20221007T110403Z
LAST-MODIFIED:20221007T110403Z
UID:1712-1666828800-1666915199@ajti.hu
SUMMARY:6.h Bemeneti mérés 1-4. óra (szövegértés\, matematika)
DESCRIPTION:
URL:https://ajti.hu/event/6-h-bemeneti-meres-1-4-ora-szovegertes-matematika/
END:VEVENT
BEGIN:VEVENT
DTSTART;VALUE=DATE:20221028
DTEND;VALUE=DATE:20221029
DTSTAMP:20260420T133539
CREATED:20221007T110321Z
LAST-MODIFIED:20221007T110321Z
UID:1710-1666915200-1667001599@ajti.hu
SUMMARY:6.h Bemeneti mérés 1-4. óra (természettudomány\, idegen nyelv)
DESCRIPTION:
URL:https://ajti.hu/event/6-h-bemeneti-meres-1-4-ora-termeszettudomany-idegen-nyelv/
END:VEVENT
END:VCALENDAR