BEGIN:VCALENDAR
VERSION:2.0
PRODID:-//Szigetszentmiklósi Ádám Jenő Általános Iskola és AMI - ECPv6.11.2.1//NONSGML v1.0//EN
CALSCALE:GREGORIAN
METHOD:PUBLISH
X-ORIGINAL-URL:https://ajti.hu
X-WR-CALDESC:Events for Szigetszentmiklósi Ádám Jenő Általános Iskola és AMI
REFRESH-INTERVAL;VALUE=DURATION:PT1H
X-Robots-Tag:noindex
X-PUBLISHED-TTL:PT1H
BEGIN:VTIMEZONE
TZID:Europe/Paris
BEGIN:DAYLIGHT
TZOFFSETFROM:+0100
TZOFFSETTO:+0200
TZNAME:CEST
DTSTART:20220327T010000
END:DAYLIGHT
BEGIN:STANDARD
TZOFFSETFROM:+0200
TZOFFSETTO:+0100
TZNAME:CET
DTSTART:20221030T010000
END:STANDARD
END:VTIMEZONE
BEGIN:VEVENT
DTSTART;VALUE=DATE:20221107
DTEND;VALUE=DATE:20221108
DTSTAMP:20260420T062137
CREATED:20221103T080836Z
LAST-MODIFIED:20221103T080836Z
UID:1828-1667779200-1667865599@ajti.hu
SUMMARY:Értekezlet (ebédlő) 16:00
DESCRIPTION:
URL:https://ajti.hu/event/ertekezlet-ebedlo-1600/
END:VEVENT
BEGIN:VEVENT
DTSTART;VALUE=DATE:20221107
DTEND;VALUE=DATE:20221108
DTSTAMP:20260420T062137
CREATED:20221103T082132Z
LAST-MODIFIED:20221103T082132Z
UID:1830-1667779200-1667865599@ajti.hu
SUMMARY:Vetélkedő a magyar tudomány napja és a Nobel-díj világnapja alkalmából
DESCRIPTION:
URL:https://ajti.hu/event/vetelkedo-a-magyar-tudomany-napja-es-a-nobel-dij-vilagnapja-alkalmabol/
END:VEVENT
BEGIN:VEVENT
DTSTART;VALUE=DATE:20221107
DTEND;VALUE=DATE:20221108
DTSTAMP:20260420T062137
CREATED:20221103T082248Z
LAST-MODIFIED:20221103T082248Z
UID:1832-1667779200-1667865599@ajti.hu
SUMMARY:Egressy Béni Református Művészeti Szakgimnázium (bemutatkozó koncert)
DESCRIPTION:
URL:https://ajti.hu/event/egressy-beni-reformatus-muveszeti-szakgimnazium-bemutatkozo-koncert/
END:VEVENT
BEGIN:VEVENT
DTSTART;VALUE=DATE:20221107
DTEND;VALUE=DATE:20221108
DTSTAMP:20260420T062137
CREATED:20221103T082332Z
LAST-MODIFIED:20221103T082332Z
UID:1834-1667779200-1667865599@ajti.hu
SUMMARY:6.i bemeneti mérés 1-4. óra
DESCRIPTION:
URL:https://ajti.hu/event/6-i-bemeneti-meres-1-4-ora/
END:VEVENT
END:VCALENDAR