BEGIN:VCALENDAR
VERSION:2.0
PRODID:-//Szigetszentmiklósi Ádám Jenő Általános Iskola és AMI - ECPv6.11.2.1//NONSGML v1.0//EN
CALSCALE:GREGORIAN
METHOD:PUBLISH
X-ORIGINAL-URL:https://ajti.hu
X-WR-CALDESC:Events for Szigetszentmiklósi Ádám Jenő Általános Iskola és AMI
REFRESH-INTERVAL;VALUE=DURATION:PT1H
X-Robots-Tag:noindex
X-PUBLISHED-TTL:PT1H
BEGIN:VTIMEZONE
TZID:Europe/Paris
BEGIN:DAYLIGHT
TZOFFSETFROM:+0100
TZOFFSETTO:+0200
TZNAME:CEST
DTSTART:20220327T010000
END:DAYLIGHT
BEGIN:STANDARD
TZOFFSETFROM:+0200
TZOFFSETTO:+0100
TZNAME:CET
DTSTART:20221030T010000
END:STANDARD
END:VTIMEZONE
BEGIN:VEVENT
DTSTART;VALUE=DATE:20221114
DTEND;VALUE=DATE:20221126
DTSTAMP:20260420T062136
CREATED:20221103T084433Z
LAST-MODIFIED:20221103T084433Z
UID:1850-1668384000-1669420799@ajti.hu
SUMMARY:"HÓD-ítsd meg a biteket!" - informatikai vesreny
DESCRIPTION:
URL:https://ajti.hu/event/hod-itsd-meg-a-biteket-informatikai-vesreny/
END:VEVENT
BEGIN:VEVENT
DTSTART;VALUE=DATE:20221114
DTEND;VALUE=DATE:20221115
DTSTAMP:20260420T062136
CREATED:20221103T084608Z
LAST-MODIFIED:20221103T084608Z
UID:1852-1668384000-1668470399@ajti.hu
SUMMARY:"Tiétek a színpad" -Operettszínház (középdöntő)
DESCRIPTION:
URL:https://ajti.hu/event/tietek-a-szinpad-operettszinhaz-kozepdonto/
END:VEVENT
BEGIN:VEVENT
DTSTART;VALUE=DATE:20221114
DTEND;VALUE=DATE:20221115
DTSTAMP:20260420T062136
CREATED:20221103T084709Z
LAST-MODIFIED:20221103T084709Z
UID:1854-1668384000-1668470399@ajti.hu
SUMMARY:Magyar Nyelv Napja (rádió)
DESCRIPTION:
URL:https://ajti.hu/event/magyar-nyelv-napja-radio/
END:VEVENT
BEGIN:VEVENT
DTSTART;VALUE=DATE:20221114
DTEND;VALUE=DATE:20221115
DTSTAMP:20260420T062136
CREATED:20221103T084915Z
LAST-MODIFIED:20221103T084915Z
UID:1856-1668384000-1668470399@ajti.hu
SUMMARY:S. Becz Pál vetélkedő
DESCRIPTION:
URL:https://ajti.hu/event/s-becz-pal-vetelkedo/
END:VEVENT
BEGIN:VEVENT
DTSTART;VALUE=DATE:20221114
DTEND;VALUE=DATE:20221115
DTSTAMP:20260420T062136
CREATED:20221103T084952Z
LAST-MODIFIED:20221103T084952Z
UID:1858-1668384000-1668470399@ajti.hu
SUMMARY:5.a\, 5.c bemeneti mérés
DESCRIPTION:
URL:https://ajti.hu/event/5-a-5-c-bemeneti-meres/
END:VEVENT
END:VCALENDAR