BEGIN:VCALENDAR
VERSION:2.0
PRODID:-//Szigetszentmiklósi Ádám Jenő Általános Iskola és AMI - ECPv6.11.2.1//NONSGML v1.0//EN
CALSCALE:GREGORIAN
METHOD:PUBLISH
X-ORIGINAL-URL:https://ajti.hu
X-WR-CALDESC:Events for Szigetszentmiklósi Ádám Jenő Általános Iskola és AMI
REFRESH-INTERVAL;VALUE=DURATION:PT1H
X-Robots-Tag:noindex
X-PUBLISHED-TTL:PT1H
BEGIN:VTIMEZONE
TZID:Europe/Paris
BEGIN:DAYLIGHT
TZOFFSETFROM:+0100
TZOFFSETTO:+0200
TZNAME:CEST
DTSTART:20220327T010000
END:DAYLIGHT
BEGIN:STANDARD
TZOFFSETFROM:+0200
TZOFFSETTO:+0100
TZNAME:CET
DTSTART:20221030T010000
END:STANDARD
END:VTIMEZONE
BEGIN:VEVENT
DTSTART;VALUE=DATE:20221211
DTEND;VALUE=DATE:20221212
DTSTAMP:20260420T043936
CREATED:20221202T143805Z
LAST-MODIFIED:20221202T143805Z
UID:2024-1670716800-1670803199@ajti.hu
SUMMARY:Gyermekbalett látogatás: Diótörő - Stefánia Palota
DESCRIPTION:
URL:https://ajti.hu/event/gyermekbalett-latogatas-diotoro-stefania-palota/
END:VEVENT
BEGIN:VEVENT
DTSTART;VALUE=DATE:20221211
DTEND;VALUE=DATE:20221212
DTSTAMP:20260420T043936
CREATED:20221202T143921Z
LAST-MODIFIED:20221202T143921Z
UID:2026-1670716800-1670803199@ajti.hu
SUMMARY:"Tiétek a színpad"- Az Operettszínház drámaversenyének döntője
DESCRIPTION:
URL:https://ajti.hu/event/tietek-a-szinpad-az-operettszinhaz-dramaversenyenek-dontoje/
END:VEVENT
END:VCALENDAR