BEGIN:VCALENDAR
VERSION:2.0
PRODID:-//Szigetszentmiklósi Ádám Jenő Általános Iskola és AMI - ECPv6.11.2.1//NONSGML v1.0//EN
CALSCALE:GREGORIAN
METHOD:PUBLISH
X-WR-CALNAME:Szigetszentmiklósi Ádám Jenő Általános Iskola és AMI
X-ORIGINAL-URL:https://ajti.hu
X-WR-CALDESC:Events for Szigetszentmiklósi Ádám Jenő Általános Iskola és AMI
REFRESH-INTERVAL;VALUE=DURATION:PT1H
X-Robots-Tag:noindex
X-PUBLISHED-TTL:PT1H
BEGIN:VTIMEZONE
TZID:Europe/Paris
BEGIN:DAYLIGHT
TZOFFSETFROM:+0100
TZOFFSETTO:+0200
TZNAME:CEST
DTSTART:20220327T010000
END:DAYLIGHT
BEGIN:STANDARD
TZOFFSETFROM:+0200
TZOFFSETTO:+0100
TZNAME:CET
DTSTART:20221030T010000
END:STANDARD
END:VTIMEZONE
BEGIN:VEVENT
DTSTART;VALUE=DATE:20221219
DTEND;VALUE=DATE:20221221
DTSTAMP:20260420T062124
CREATED:20221202T144102Z
LAST-MODIFIED:20221202T144102Z
UID:2032-1671408000-1671580799@ajti.hu
SUMMARY:Karácsonyi műsorok a fa alatt
DESCRIPTION:
URL:https://ajti.hu/event/karacsonyi-musorok-a-fa-alatt/
END:VEVENT
BEGIN:VEVENT
DTSTART;VALUE=DATE:20221219
DTEND;VALUE=DATE:20221220
DTSTAMP:20260420T062124
CREATED:20221202T144142Z
LAST-MODIFIED:20221202T144142Z
UID:2034-1671408000-1671494399@ajti.hu
SUMMARY:Karácsonyi pulcsi kihívás
DESCRIPTION:
URL:https://ajti.hu/event/karacsonyi-pulcsi-kihivas/
END:VEVENT
BEGIN:VEVENT
DTSTART;VALUE=DATE:20221219
DTEND;VALUE=DATE:20221220
DTSTAMP:20260420T062124
CREATED:20221202T144215Z
LAST-MODIFIED:20221202T144215Z
UID:2036-1671408000-1671494399@ajti.hu
SUMMARY:DÖK fórum
DESCRIPTION:5. óra
URL:https://ajti.hu/event/dok-forum/
END:VEVENT
BEGIN:VEVENT
DTSTART;TZID=Europe/Paris:20221219T170000
DTEND;TZID=Europe/Paris:20221219T180000
DTSTAMP:20260420T062124
CREATED:20221202T144321Z
LAST-MODIFIED:20221202T144321Z
UID:2038-1671469200-1671472800@ajti.hu
SUMMARY:Karácsonyi Kóruskoncert
DESCRIPTION:
URL:https://ajti.hu/event/karacsonyi-koruskoncert/
END:VEVENT
END:VCALENDAR