BEGIN:VCALENDAR
VERSION:2.0
PRODID:-//Szigetszentmiklósi Ádám Jenő Általános Iskola és AMI - ECPv6.11.2.1//NONSGML v1.0//EN
CALSCALE:GREGORIAN
METHOD:PUBLISH
X-WR-CALNAME:Szigetszentmiklósi Ádám Jenő Általános Iskola és AMI
X-ORIGINAL-URL:https://ajti.hu
X-WR-CALDESC:Events for Szigetszentmiklósi Ádám Jenő Általános Iskola és AMI
REFRESH-INTERVAL;VALUE=DURATION:PT1H
X-Robots-Tag:noindex
X-PUBLISHED-TTL:PT1H
BEGIN:VTIMEZONE
TZID:Europe/Paris
BEGIN:DAYLIGHT
TZOFFSETFROM:+0100
TZOFFSETTO:+0200
TZNAME:CEST
DTSTART:20230326T010000
END:DAYLIGHT
BEGIN:STANDARD
TZOFFSETFROM:+0200
TZOFFSETTO:+0100
TZNAME:CET
DTSTART:20231029T010000
END:STANDARD
END:VTIMEZONE
BEGIN:VEVENT
DTSTART;VALUE=DATE:20230321
DTEND;VALUE=DATE:20230323
DTSTAMP:20260419T234012
CREATED:20230302T064355Z
LAST-MODIFIED:20230302T064355Z
UID:2421-1679356800-1679529599@ajti.hu
SUMMARY:Módosító időszak 8. évf. (középiskolába jelentkezés)
DESCRIPTION:
URL:https://ajti.hu/event/modosito-idoszak-8-evf-kozepiskolaba-jelentkezes/
END:VEVENT
BEGIN:VEVENT
DTSTART;VALUE=DATE:20230322
DTEND;VALUE=DATE:20230323
DTSTAMP:20260419T234012
CREATED:20230302T064431Z
LAST-MODIFIED:20230302T064431Z
UID:2423-1679443200-1679529599@ajti.hu
SUMMARY:Víz Világnapja (plakát és terepasztal verseny 1-4.évf.)
DESCRIPTION:
URL:https://ajti.hu/event/viz-vilagnapja-plakat-es-terepasztal-verseny-1-4-evf/
END:VEVENT
BEGIN:VEVENT
DTSTART;VALUE=DATE:20230322
DTEND;VALUE=DATE:20230323
DTSTAMP:20260419T234012
CREATED:20230302T064458Z
LAST-MODIFIED:20230302T064458Z
UID:2425-1679443200-1679529599@ajti.hu
SUMMARY:Víz Világnapi vetélkedő
DESCRIPTION:
URL:https://ajti.hu/event/viz-vilagnapi-vetelkedo-2/
END:VEVENT
BEGIN:VEVENT
DTSTART;VALUE=DATE:20230322
DTEND;VALUE=DATE:20230323
DTSTAMP:20260419T234012
CREATED:20230302T064529Z
LAST-MODIFIED:20230302T064529Z
UID:2427-1679443200-1679529599@ajti.hu
SUMMARY:Víz Világnapja : természetfotó verseny
DESCRIPTION:
URL:https://ajti.hu/event/viz-vilagnapja-termeszetfoto-verseny/
END:VEVENT
END:VCALENDAR