BEGIN:VCALENDAR
VERSION:2.0
PRODID:-//Szigetszentmiklósi Ádám Jenő Általános Iskola és AMI - ECPv6.11.2.1//NONSGML v1.0//EN
CALSCALE:GREGORIAN
METHOD:PUBLISH
X-ORIGINAL-URL:https://ajti.hu
X-WR-CALDESC:Events for Szigetszentmiklósi Ádám Jenő Általános Iskola és AMI
REFRESH-INTERVAL;VALUE=DURATION:PT1H
X-Robots-Tag:noindex
X-PUBLISHED-TTL:PT1H
BEGIN:VTIMEZONE
TZID:Europe/Paris
BEGIN:DAYLIGHT
TZOFFSETFROM:+0100
TZOFFSETTO:+0200
TZNAME:CEST
DTSTART:20230326T010000
END:DAYLIGHT
BEGIN:STANDARD
TZOFFSETFROM:+0200
TZOFFSETTO:+0100
TZNAME:CET
DTSTART:20231029T010000
END:STANDARD
END:VTIMEZONE
BEGIN:VEVENT
DTSTART;TZID=Europe/Paris:20230323T100000
DTEND;TZID=Europe/Paris:20230323T110000
DTSTAMP:20260419T234109
CREATED:20230302T064642Z
LAST-MODIFIED:20230302T064642Z
UID:2429-1679565600-1679569200@ajti.hu
SUMMARY:Elmúlt Korok Muzsikája koncertsorozat-Bach mindenkinek!  (6. z\, 5. é\,7. évf.\,8. évf.)
DESCRIPTION:Helyszín: hangversenyterem
URL:https://ajti.hu/event/elmult-korok-muzsikaja-koncertsorozat-bach-mindenkinek-6-z-5-e7-evf-8-evf/
END:VEVENT
END:VCALENDAR