BEGIN:VCALENDAR
VERSION:2.0
PRODID:-//Szigetszentmiklósi Ádám Jenő Általános Iskola és AMI - ECPv6.11.2.1//NONSGML v1.0//EN
CALSCALE:GREGORIAN
METHOD:PUBLISH
X-ORIGINAL-URL:https://ajti.hu
X-WR-CALDESC:Events for Szigetszentmiklósi Ádám Jenő Általános Iskola és AMI
REFRESH-INTERVAL;VALUE=DURATION:PT1H
X-Robots-Tag:noindex
X-PUBLISHED-TTL:PT1H
BEGIN:VTIMEZONE
TZID:Europe/Paris
BEGIN:DAYLIGHT
TZOFFSETFROM:+0100
TZOFFSETTO:+0200
TZNAME:CEST
DTSTART:20230326T010000
END:DAYLIGHT
BEGIN:STANDARD
TZOFFSETFROM:+0200
TZOFFSETTO:+0100
TZNAME:CET
DTSTART:20231029T010000
END:STANDARD
END:VTIMEZONE
BEGIN:VEVENT
DTSTART;VALUE=DATE:20230327
DTEND;VALUE=DATE:20230401
DTSTAMP:20260419T220509
CREATED:20230302T064832Z
LAST-MODIFIED:20230302T064832Z
UID:2433-1679875200-1680307199@ajti.hu
SUMMARY:Informatikai házi verseny (digitális témahét)
DESCRIPTION:
URL:https://ajti.hu/event/informatikai-hazi-verseny-digitalis-temahet/
END:VEVENT
BEGIN:VEVENT
DTSTART;VALUE=DATE:20230330
DTEND;VALUE=DATE:20230331
DTSTAMP:20260419T220509
CREATED:20230302T064949Z
LAST-MODIFIED:20230302T064949Z
UID:2437-1680134400-1680220799@ajti.hu
SUMMARY:Házi szolfézs verseny
DESCRIPTION:
URL:https://ajti.hu/event/hazi-szolfezs-verseny/
END:VEVENT
BEGIN:VEVENT
DTSTART;VALUE=DATE:20230330
DTEND;VALUE=DATE:20230331
DTSTAMP:20260419T220509
CREATED:20230302T065017Z
LAST-MODIFIED:20230302T065017Z
UID:2439-1680134400-1680220799@ajti.hu
SUMMARY:Rajzpályázat
DESCRIPTION:
URL:https://ajti.hu/event/rajzpalyazat/
END:VEVENT
BEGIN:VEVENT
DTSTART;VALUE=DATE:20230330
DTEND;VALUE=DATE:20230331
DTSTAMP:20260419T220509
CREATED:20230302T065105Z
LAST-MODIFIED:20230302T065105Z
UID:2441-1680134400-1680220799@ajti.hu
SUMMARY:Helyesírási verseny (alsós)
DESCRIPTION:
URL:https://ajti.hu/event/helyesirasi-verseny-alsos/
END:VEVENT
BEGIN:VEVENT
DTSTART;VALUE=DATE:20230330
DTEND;VALUE=DATE:20230331
DTSTAMP:20260419T220509
CREATED:20230302T065137Z
LAST-MODIFIED:20230302T065137Z
UID:2443-1680134400-1680220799@ajti.hu
SUMMARY:Tököli Weöres Sándor Napok
DESCRIPTION:
URL:https://ajti.hu/event/tokoli-weores-sandor-napok/
END:VEVENT
BEGIN:VEVENT
DTSTART;VALUE=DATE:20230330
DTEND;VALUE=DATE:20230331
DTSTAMP:20260419T220509
CREATED:20230302T065208Z
LAST-MODIFIED:20230302T065208Z
UID:2445-1680134400-1680220799@ajti.hu
SUMMARY:Iskolai népdalverseny
DESCRIPTION:
URL:https://ajti.hu/event/iskolai-nepdalverseny/
END:VEVENT
BEGIN:VEVENT
DTSTART;VALUE=DATE:20230330
DTEND;VALUE=DATE:20230331
DTSTAMP:20260419T220509
CREATED:20230302T065243Z
LAST-MODIFIED:20230302T065317Z
UID:2447-1680134400-1680220799@ajti.hu
SUMMARY:Területi idegen nyelvi vers- és prózamondó területi verseny
DESCRIPTION:
URL:https://ajti.hu/event/teruleti-idegen-nyelvi-vers-es-prozamondo-teruleti-verseny/
END:VEVENT
BEGIN:VEVENT
DTSTART;VALUE=DATE:20230331
DTEND;VALUE=DATE:20230401
DTSTAMP:20260419T220509
CREATED:20230302T065610Z
LAST-MODIFIED:20230302T065610Z
UID:2449-1680220800-1680307199@ajti.hu
SUMMARY:Iskolakert kialakításának/bővítésének folytatása
DESCRIPTION:
URL:https://ajti.hu/event/iskolakert-kialakitasanak-bovitesenek-folytatasa/
END:VEVENT
BEGIN:VEVENT
DTSTART;VALUE=DATE:20230331
DTEND;VALUE=DATE:20230401
DTSTAMP:20260419T220509
CREATED:20230302T065646Z
LAST-MODIFIED:20230302T065646Z
UID:2451-1680220800-1680307199@ajti.hu
SUMMARY:II. Országos vizuális alkotó gyakorlat verseny
DESCRIPTION:
URL:https://ajti.hu/event/ii-orszagos-vizualis-alkoto-gyakorlat-verseny/
END:VEVENT
BEGIN:VEVENT
DTSTART;TZID=Europe/Paris:20230331T115500
DTEND;TZID=Europe/Paris:20230331T124000
DTSTAMP:20260419T220509
CREATED:20230302T065727Z
LAST-MODIFIED:20230302T065816Z
UID:2453-1680263700-1680266400@ajti.hu
SUMMARY:Fordított Nap 5. óra
DESCRIPTION:
URL:https://ajti.hu/event/forditott-nap-5-ora/
END:VEVENT
END:VCALENDAR