BEGIN:VCALENDAR
VERSION:2.0
PRODID:-//Szigetszentmiklósi Ádám Jenő Általános Iskola és AMI - ECPv6.11.2.1//NONSGML v1.0//EN
CALSCALE:GREGORIAN
METHOD:PUBLISH
X-ORIGINAL-URL:https://ajti.hu
X-WR-CALDESC:Events for Szigetszentmiklósi Ádám Jenő Általános Iskola és AMI
REFRESH-INTERVAL;VALUE=DURATION:PT1H
X-Robots-Tag:noindex
X-PUBLISHED-TTL:PT1H
BEGIN:VTIMEZONE
TZID:Europe/Paris
BEGIN:DAYLIGHT
TZOFFSETFROM:+0100
TZOFFSETTO:+0200
TZNAME:CEST
DTSTART:20230326T010000
END:DAYLIGHT
BEGIN:STANDARD
TZOFFSETFROM:+0200
TZOFFSETTO:+0100
TZNAME:CET
DTSTART:20231029T010000
END:STANDARD
END:VTIMEZONE
BEGIN:VEVENT
DTSTART;VALUE=DATE:20230327
DTEND;VALUE=DATE:20230401
DTSTAMP:20260419T220402
CREATED:20230302T064832Z
LAST-MODIFIED:20230302T064832Z
UID:2433-1679875200-1680307199@ajti.hu
SUMMARY:Informatikai házi verseny (digitális témahét)
DESCRIPTION:
URL:https://ajti.hu/event/informatikai-hazi-verseny-digitalis-temahet/
END:VEVENT
BEGIN:VEVENT
DTSTART;VALUE=DATE:20230331
DTEND;VALUE=DATE:20230401
DTSTAMP:20260419T220402
CREATED:20230302T065610Z
LAST-MODIFIED:20230302T065610Z
UID:2449-1680220800-1680307199@ajti.hu
SUMMARY:Iskolakert kialakításának/bővítésének folytatása
DESCRIPTION:
URL:https://ajti.hu/event/iskolakert-kialakitasanak-bovitesenek-folytatasa/
END:VEVENT
BEGIN:VEVENT
DTSTART;VALUE=DATE:20230331
DTEND;VALUE=DATE:20230401
DTSTAMP:20260419T220403
CREATED:20230302T065646Z
LAST-MODIFIED:20230302T065646Z
UID:2451-1680220800-1680307199@ajti.hu
SUMMARY:II. Országos vizuális alkotó gyakorlat verseny
DESCRIPTION:
URL:https://ajti.hu/event/ii-orszagos-vizualis-alkoto-gyakorlat-verseny/
END:VEVENT
END:VCALENDAR