BEGIN:VCALENDAR
VERSION:2.0
PRODID:-//Szigetszentmiklósi Ádám Jenő Általános Iskola és AMI - ECPv6.11.2.1//NONSGML v1.0//EN
CALSCALE:GREGORIAN
METHOD:PUBLISH
X-WR-CALNAME:Szigetszentmiklósi Ádám Jenő Általános Iskola és AMI
X-ORIGINAL-URL:https://ajti.hu
X-WR-CALDESC:Events for Szigetszentmiklósi Ádám Jenő Általános Iskola és AMI
REFRESH-INTERVAL;VALUE=DURATION:PT1H
X-Robots-Tag:noindex
X-PUBLISHED-TTL:PT1H
BEGIN:VTIMEZONE
TZID:Europe/Paris
BEGIN:DAYLIGHT
TZOFFSETFROM:+0100
TZOFFSETTO:+0200
TZNAME:CEST
DTSTART:20230326T010000
END:DAYLIGHT
BEGIN:STANDARD
TZOFFSETFROM:+0200
TZOFFSETTO:+0100
TZNAME:CET
DTSTART:20231029T010000
END:STANDARD
END:VTIMEZONE
BEGIN:VEVENT
DTSTART;TZID=Europe/Paris:20230413T140000
DTEND;TZID=Europe/Paris:20230413T160000
DTSTAMP:20260419T220354
CREATED:20230403T075446Z
LAST-MODIFIED:20230403T100353Z
UID:2601-1681394400-1681401600@ajti.hu
SUMMARY:Hangszersimogató a zeneművészeti ágban
DESCRIPTION:Várjuk az egész városból a hangszeres képzés után érdeklődő gyermekeket és szüleiket.
URL:https://ajti.hu/event/hangszersimogato-nyilt-nap-a-zeneiskolaban/
END:VEVENT
END:VCALENDAR