BEGIN:VCALENDAR
VERSION:2.0
PRODID:-//Szigetszentmiklósi Ádám Jenő Általános Iskola és AMI - ECPv6.11.2.1//NONSGML v1.0//EN
CALSCALE:GREGORIAN
METHOD:PUBLISH
X-ORIGINAL-URL:https://ajti.hu
X-WR-CALDESC:Events for Szigetszentmiklósi Ádám Jenő Általános Iskola és AMI
REFRESH-INTERVAL;VALUE=DURATION:PT1H
X-Robots-Tag:noindex
X-PUBLISHED-TTL:PT1H
BEGIN:VTIMEZONE
TZID:Europe/Paris
BEGIN:DAYLIGHT
TZOFFSETFROM:+0100
TZOFFSETTO:+0200
TZNAME:CEST
DTSTART:20230326T010000
END:DAYLIGHT
BEGIN:STANDARD
TZOFFSETFROM:+0200
TZOFFSETTO:+0100
TZNAME:CET
DTSTART:20231029T010000
END:STANDARD
END:VTIMEZONE
BEGIN:VEVENT
DTSTART;VALUE=DATE:20230510
DTEND;VALUE=DATE:20230511
DTSTAMP:20260419T202851
CREATED:20230516T090839Z
LAST-MODIFIED:20230516T090839Z
UID:2818-1683676800-1683763199@ajti.hu
SUMMARY:Terror Háza (8. évfolyam)
DESCRIPTION:
URL:https://ajti.hu/event/terror-haza-8-evfolyam/
END:VEVENT
BEGIN:VEVENT
DTSTART;VALUE=DATE:20230511
DTEND;VALUE=DATE:20230512
DTSTAMP:20260419T202851
CREATED:20230516T091024Z
LAST-MODIFIED:20230516T091024Z
UID:2822-1683763200-1683849599@ajti.hu
SUMMARY:DÖK gyűlés
DESCRIPTION:
URL:https://ajti.hu/event/dok-gyules/
END:VEVENT
END:VCALENDAR