BEGIN:VCALENDAR
VERSION:2.0
PRODID:-//Szigetszentmiklósi Ádám Jenő Általános Iskola és AMI - ECPv6.11.2.1//NONSGML v1.0//EN
CALSCALE:GREGORIAN
METHOD:PUBLISH
X-ORIGINAL-URL:https://ajti.hu
X-WR-CALDESC:Events for Szigetszentmiklósi Ádám Jenő Általános Iskola és AMI
REFRESH-INTERVAL;VALUE=DURATION:PT1H
X-Robots-Tag:noindex
X-PUBLISHED-TTL:PT1H
BEGIN:VTIMEZONE
TZID:Europe/Paris
BEGIN:DAYLIGHT
TZOFFSETFROM:+0100
TZOFFSETTO:+0200
TZNAME:CEST
DTSTART:20230326T010000
END:DAYLIGHT
BEGIN:STANDARD
TZOFFSETFROM:+0200
TZOFFSETTO:+0100
TZNAME:CET
DTSTART:20231029T010000
END:STANDARD
END:VTIMEZONE
BEGIN:VEVENT
DTSTART;VALUE=DATE:20230512
DTEND;VALUE=DATE:20230520
DTSTAMP:20260419T202827
CREATED:20230516T093650Z
LAST-MODIFIED:20230516T093650Z
UID:2826-1683849600-1684540799@ajti.hu
SUMMARY:Ádám Jenő Művészeti Hét
DESCRIPTION:
URL:https://ajti.hu/event/adam-jeno-muveszeti-het-2/
END:VEVENT
BEGIN:VEVENT
DTSTART;VALUE=DATE:20230519
DTEND;VALUE=DATE:20230520
DTSTAMP:20260419T202827
CREATED:20230516T094541Z
LAST-MODIFIED:20230516T094541Z
UID:2838-1684454400-1684540799@ajti.hu
SUMMARY:Művészeti Est (sportcsarnok)
DESCRIPTION:17:00
URL:https://ajti.hu/event/muveszeti-est-sportcsarnok/
END:VEVENT
BEGIN:VEVENT
DTSTART;VALUE=DATE:20230520
DTEND;VALUE=DATE:20230521
DTSTAMP:20260419T202827
CREATED:20230516T094609Z
LAST-MODIFIED:20230516T094609Z
UID:2840-1684540800-1684627199@ajti.hu
SUMMARY:Tavaszi Medve Matekverseny
DESCRIPTION:
URL:https://ajti.hu/event/tavaszi-medve-matekverseny/
END:VEVENT
END:VCALENDAR