BEGIN:VCALENDAR
VERSION:2.0
PRODID:-//Szigetszentmiklósi Ádám Jenő Általános Iskola és AMI - ECPv6.11.2.1//NONSGML v1.0//EN
CALSCALE:GREGORIAN
METHOD:PUBLISH
X-ORIGINAL-URL:https://ajti.hu
X-WR-CALDESC:Events for Szigetszentmiklósi Ádám Jenő Általános Iskola és AMI
REFRESH-INTERVAL;VALUE=DURATION:PT1H
X-Robots-Tag:noindex
X-PUBLISHED-TTL:PT1H
BEGIN:VTIMEZONE
TZID:Europe/Paris
BEGIN:DAYLIGHT
TZOFFSETFROM:+0100
TZOFFSETTO:+0200
TZNAME:CEST
DTSTART:20230326T010000
END:DAYLIGHT
BEGIN:STANDARD
TZOFFSETFROM:+0200
TZOFFSETTO:+0100
TZNAME:CET
DTSTART:20231029T010000
END:STANDARD
END:VTIMEZONE
BEGIN:VEVENT
DTSTART;VALUE=DATE:20230612
DTEND;VALUE=DATE:20230613
DTSTAMP:20260419T190530
CREATED:20230607T124643Z
LAST-MODIFIED:20230607T124643Z
UID:2926-1686528000-1686614399@ajti.hu
SUMMARY:Tanítás nélküli munkanap
DESCRIPTION:
URL:https://ajti.hu/event/tanitas-nelkuli-munkanap-3/
END:VEVENT
BEGIN:VEVENT
DTSTART;VALUE=DATE:20230613
DTEND;VALUE=DATE:20230614
DTSTAMP:20260419T190530
CREATED:20230607T124824Z
LAST-MODIFIED:20230607T124824Z
UID:2928-1686614400-1686700799@ajti.hu
SUMMARY:Cirkusz LEP (8.d\,8.h)
DESCRIPTION:
URL:https://ajti.hu/event/cirkusz-lep-8-d8-h/
END:VEVENT
END:VCALENDAR