BEGIN:VCALENDAR
VERSION:2.0
PRODID:-//Szigetszentmiklósi Ádám Jenő Általános Iskola és AMI - ECPv6.11.2.1//NONSGML v1.0//EN
CALSCALE:GREGORIAN
METHOD:PUBLISH
X-WR-CALNAME:Szigetszentmiklósi Ádám Jenő Általános Iskola és AMI
X-ORIGINAL-URL:https://ajti.hu
X-WR-CALDESC:Events for Szigetszentmiklósi Ádám Jenő Általános Iskola és AMI
REFRESH-INTERVAL;VALUE=DURATION:PT1H
X-Robots-Tag:noindex
X-PUBLISHED-TTL:PT1H
BEGIN:VTIMEZONE
TZID:Europe/Paris
BEGIN:DAYLIGHT
TZOFFSETFROM:+0100
TZOFFSETTO:+0200
TZNAME:CEST
DTSTART:20230326T010000
END:DAYLIGHT
BEGIN:STANDARD
TZOFFSETFROM:+0200
TZOFFSETTO:+0100
TZNAME:CET
DTSTART:20231029T010000
END:STANDARD
END:VTIMEZONE
BEGIN:VEVENT
DTSTART;VALUE=DATE:20231007
DTEND;VALUE=DATE:20231008
DTSTAMP:20260419T204258
CREATED:20231002T065423Z
LAST-MODIFIED:20231002T065423Z
UID:3172-1696636800-1696723199@ajti.hu
SUMMARY:Színház (színházterem)
DESCRIPTION:
URL:https://ajti.hu/event/szinhaz-szinhazterem/
END:VEVENT
BEGIN:VEVENT
DTSTART;TZID=Europe/Paris:20231006T100000
DTEND;TZID=Europe/Paris:20231006T110000
DTSTAMP:20260419T204258
CREATED:20231002T065346Z
LAST-MODIFIED:20231002T065346Z
UID:3170-1696586400-1696590000@ajti.hu
SUMMARY:Városi megemlékezés-Kopjafa
DESCRIPTION:
URL:https://ajti.hu/event/varosi-megemlekezes-kopjafa-2/
END:VEVENT
BEGIN:VEVENT
DTSTART;VALUE=DATE:20231006
DTEND;VALUE=DATE:20231007
DTSTAMP:20260419T204258
CREATED:20231002T065301Z
LAST-MODIFIED:20231002T065301Z
UID:3168-1696550400-1696636799@ajti.hu
SUMMARY:Megemlékezés október 6-ról óra keretében
DESCRIPTION:
URL:https://ajti.hu/event/megemlekezes-oktober-6-rol-ora-kereteben/
END:VEVENT
BEGIN:VEVENT
DTSTART;VALUE=DATE:20231004
DTEND;VALUE=DATE:20231005
DTSTAMP:20260419T204258
CREATED:20231002T064923Z
LAST-MODIFIED:20231002T065225Z
UID:3166-1696377600-1696463999@ajti.hu
SUMMARY:Benedek Elek városi mesemondó verseny (alsó\, felső tagozat)
DESCRIPTION:
URL:https://ajti.hu/event/benedek-elek-varosi-mesemondo-verseny-also-felso-tagozat/
END:VEVENT
BEGIN:VEVENT
DTSTART;VALUE=DATE:20231004
DTEND;VALUE=DATE:20231005
DTSTAMP:20260419T204258
CREATED:20231002T064841Z
LAST-MODIFIED:20231002T064841Z
UID:3164-1696377600-1696463999@ajti.hu
SUMMARY:Állatok Világnapja (alsó\, felső tagozaton)
DESCRIPTION:
URL:https://ajti.hu/event/allatok-vilagnapja-also-felso-tagozaton/
END:VEVENT
BEGIN:VEVENT
DTSTART;VALUE=DATE:20231002
DTEND;VALUE=DATE:20231003
DTSTAMP:20260419T204258
CREATED:20231002T064810Z
LAST-MODIFIED:20231002T064810Z
UID:3162-1696204800-1696291199@ajti.hu
SUMMARY:Városi Idősek Napja (színházterem)
DESCRIPTION:
URL:https://ajti.hu/event/varosi-idosek-napja-szinhazterem/
END:VEVENT
BEGIN:VEVENT
DTSTART;TZID=Europe/Paris:20230623T170000
DTEND;TZID=Europe/Paris:20230623T190000
DTSTAMP:20260419T204258
CREATED:20230607T125656Z
LAST-MODIFIED:20230607T125656Z
UID:2946-1687539600-1687546800@ajti.hu
SUMMARY:Tanévzáró ünnepély
DESCRIPTION:
URL:https://ajti.hu/event/tanevzaro-unnepely/
END:VEVENT
BEGIN:VEVENT
DTSTART;VALUE=DATE:20230620
DTEND;VALUE=DATE:20230623
DTSTAMP:20260419T204258
CREATED:20230607T125558Z
LAST-MODIFIED:20230607T125558Z
UID:2944-1687219200-1687478399@ajti.hu
SUMMARY:Középiskolai beiratkozások
DESCRIPTION:
URL:https://ajti.hu/event/kozepiskolai-beiratkozasok/
END:VEVENT
BEGIN:VEVENT
DTSTART;TZID=Europe/Paris:20230619T140000
DTEND;TZID=Europe/Paris:20230619T153000
DTSTAMP:20260419T204258
CREATED:20230607T125425Z
LAST-MODIFIED:20230607T125425Z
UID:2940-1687183200-1687188600@ajti.hu
SUMMARY:Bizonyítványosztás a 8. évfolyamosoknak
DESCRIPTION:
URL:https://ajti.hu/event/bizonyitvanyosztas-a-8-evfolyamosoknak/
END:VEVENT
BEGIN:VEVENT
DTSTART;VALUE=DATE:20230619
DTEND;VALUE=DATE:20230621
DTSTAMP:20260419T204258
CREATED:20230607T125530Z
LAST-MODIFIED:20230607T125530Z
UID:2942-1687132800-1687305599@ajti.hu
SUMMARY:Pótbeiratkozás zeneművészeti tanszak
DESCRIPTION:16:00-18:00
URL:https://ajti.hu/event/potbeiratkozas-zenemuveszeti-tanszak/
END:VEVENT
BEGIN:VEVENT
DTSTART;TZID=Europe/Paris:20230616T170000
DTEND;TZID=Europe/Paris:20230616T183000
DTSTAMP:20260419T204258
CREATED:20230607T125311Z
LAST-MODIFIED:20230607T125311Z
UID:2938-1686934800-1686940200@ajti.hu
SUMMARY:Ballagási ünnepség (sportcsarnok)
DESCRIPTION:
URL:https://ajti.hu/event/ballagasi-unnepseg-sportcsarnok-2/
END:VEVENT
BEGIN:VEVENT
DTSTART;TZID=Europe/Paris:20230615T190000
DTEND;TZID=Europe/Paris:20230615T200000
DTSTAMP:20260419T204258
CREATED:20230607T125206Z
LAST-MODIFIED:20230607T125206Z
UID:2936-1686855600-1686859200@ajti.hu
SUMMARY:Zene Ünnepe Hangverseny
DESCRIPTION:
URL:https://ajti.hu/event/zene-unnepe-hangverseny/
END:VEVENT
BEGIN:VEVENT
DTSTART;TZID=Europe/Paris:20230615T173000
DTEND;TZID=Europe/Paris:20230615T183000
DTSTAMP:20260419T204258
CREATED:20230607T125115Z
LAST-MODIFIED:20230607T125115Z
UID:2934-1686850200-1686853800@ajti.hu
SUMMARY:Zeneiskola évzáró ünnepség és bizonyítványosztás
DESCRIPTION:
URL:https://ajti.hu/event/zeneiskola-evzaro-unnepseg-es-bizonyitvanyosztas/
END:VEVENT
BEGIN:VEVENT
DTSTART;VALUE=DATE:20230615
DTEND;VALUE=DATE:20230616
DTSTAMP:20260419T204258
CREATED:20230607T124956Z
LAST-MODIFIED:20230607T124956Z
UID:2932-1686787200-1686873599@ajti.hu
SUMMARY:Vidámballagás (8. évfolyam)
DESCRIPTION:
URL:https://ajti.hu/event/vidamballagas-8-evfolyam/
END:VEVENT
BEGIN:VEVENT
DTSTART;VALUE=DATE:20230614
DTEND;VALUE=DATE:20230615
DTSTAMP:20260419T204258
CREATED:20230607T124922Z
LAST-MODIFIED:20230607T124922Z
UID:2930-1686700800-1686787199@ajti.hu
SUMMARY:DÖK nap (1-4. óra felső tagozat)
DESCRIPTION:
URL:https://ajti.hu/event/dok-nap-1-4-ora-felso-tagozat/
END:VEVENT
BEGIN:VEVENT
DTSTART;VALUE=DATE:20230613
DTEND;VALUE=DATE:20230614
DTSTAMP:20260419T204258
CREATED:20230607T124824Z
LAST-MODIFIED:20230607T124824Z
UID:2928-1686614400-1686700799@ajti.hu
SUMMARY:Cirkusz LEP (8.d\,8.h)
DESCRIPTION:
URL:https://ajti.hu/event/cirkusz-lep-8-d8-h/
END:VEVENT
BEGIN:VEVENT
DTSTART;VALUE=DATE:20230612
DTEND;VALUE=DATE:20230613
DTSTAMP:20260419T204258
CREATED:20230607T124643Z
LAST-MODIFIED:20230607T124643Z
UID:2926-1686528000-1686614399@ajti.hu
SUMMARY:Tanítás nélküli munkanap
DESCRIPTION:
URL:https://ajti.hu/event/tanitas-nelkuli-munkanap-3/
END:VEVENT
BEGIN:VEVENT
DTSTART;VALUE=DATE:20230609
DTEND;VALUE=DATE:20230610
DTSTAMP:20260419T204258
CREATED:20230607T124611Z
LAST-MODIFIED:20230607T124611Z
UID:2924-1686268800-1686355199@ajti.hu
SUMMARY:Pótvizsgák
DESCRIPTION:
URL:https://ajti.hu/event/potvizsgak/
END:VEVENT
BEGIN:VEVENT
DTSTART;TZID=Europe/Paris:20230608T163000
DTEND;TZID=Europe/Paris:20230608T173000
DTSTAMP:20260419T204258
CREATED:20230607T124548Z
LAST-MODIFIED:20230607T124548Z
UID:2922-1686241800-1686245400@ajti.hu
SUMMARY:Leendő elsős szülői értekezlet
DESCRIPTION:
URL:https://ajti.hu/event/leendo-elsos-szuloi-ertekezlet/
END:VEVENT
BEGIN:VEVENT
DTSTART;VALUE=DATE:20230531
DTEND;VALUE=DATE:20230603
DTSTAMP:20260419T204258
CREATED:20230516T095117Z
LAST-MODIFIED:20230516T095117Z
UID:2852-1685491200-1685750399@ajti.hu
SUMMARY:Határtalanul 7.évfolyam  - tanulmányi kirándulás
DESCRIPTION:
URL:https://ajti.hu/event/hatartalanul-7-evfolyam-tanulmanyi-kirandulas/
END:VEVENT
BEGIN:VEVENT
DTSTART;VALUE=DATE:20230531
DTEND;VALUE=DATE:20230601
DTSTAMP:20260419T204258
CREATED:20230516T095000Z
LAST-MODIFIED:20230516T095000Z
UID:2850-1685491200-1685577599@ajti.hu
SUMMARY:Kihívás Napja
DESCRIPTION:
URL:https://ajti.hu/event/kihivas-napja/
END:VEVENT
BEGIN:VEVENT
DTSTART;VALUE=DATE:20230526
DTEND;VALUE=DATE:20230527
DTSTAMP:20260419T204258
CREATED:20230516T094914Z
LAST-MODIFIED:20230516T094914Z
UID:2848-1685059200-1685145599@ajti.hu
SUMMARY:Bohém Jazz (alsó tagozat)
DESCRIPTION:
URL:https://ajti.hu/event/bohem-jazz-also-tagozat/
END:VEVENT
BEGIN:VEVENT
DTSTART;VALUE=DATE:20230526
DTEND;VALUE=DATE:20230527
DTSTAMP:20260419T204258
CREATED:20230516T094846Z
LAST-MODIFIED:20230516T094846Z
UID:2846-1685059200-1685145599@ajti.hu
SUMMARY:Szabadulószoba élményprogram (8.évfolyam+DÖK tagok)
DESCRIPTION:
URL:https://ajti.hu/event/szabaduloszoba-elmenyprogram-8-evfolyamdok-tagok/
END:VEVENT
BEGIN:VEVENT
DTSTART;VALUE=DATE:20230524
DTEND;VALUE=DATE:20230525
DTSTAMP:20260419T204258
CREATED:20230516T094733Z
LAST-MODIFIED:20230516T094733Z
UID:2844-1684886400-1684972799@ajti.hu
SUMMARY:B-s vizsga
DESCRIPTION:14:00
URL:https://ajti.hu/event/b-s-vizsga-4/
END:VEVENT
BEGIN:VEVENT
DTSTART;VALUE=DATE:20230522
DTEND;VALUE=DATE:20230606
DTSTAMP:20260419T204258
CREATED:20230516T094701Z
LAST-MODIFIED:20230516T094701Z
UID:2842-1684713600-1686009599@ajti.hu
SUMMARY:Hangszeres zártkörű vizsgák (kamaraterem)
DESCRIPTION:
URL:https://ajti.hu/event/hangszeres-zartkoru-vizsgak-kamaraterem-2/
END:VEVENT
BEGIN:VEVENT
DTSTART;VALUE=DATE:20230520
DTEND;VALUE=DATE:20230521
DTSTAMP:20260419T204258
CREATED:20230516T094609Z
LAST-MODIFIED:20230516T094609Z
UID:2840-1684540800-1684627199@ajti.hu
SUMMARY:Tavaszi Medve Matekverseny
DESCRIPTION:
URL:https://ajti.hu/event/tavaszi-medve-matekverseny/
END:VEVENT
BEGIN:VEVENT
DTSTART;VALUE=DATE:20230519
DTEND;VALUE=DATE:20230520
DTSTAMP:20260419T204259
CREATED:20230516T094541Z
LAST-MODIFIED:20230516T094541Z
UID:2838-1684454400-1684540799@ajti.hu
SUMMARY:Művészeti Est (sportcsarnok)
DESCRIPTION:17:00
URL:https://ajti.hu/event/muveszeti-est-sportcsarnok/
END:VEVENT
BEGIN:VEVENT
DTSTART;VALUE=DATE:20230517
DTEND;VALUE=DATE:20230518
DTSTAMP:20260419T204259
CREATED:20230516T094450Z
LAST-MODIFIED:20230516T094450Z
UID:2836-1684281600-1684367999@ajti.hu
SUMMARY:Művészeti vizsgaelőadások (színházterem)
DESCRIPTION:17:00
URL:https://ajti.hu/event/muveszeti-vizsgaeloadasok-szinhazterem-3/
END:VEVENT
BEGIN:VEVENT
DTSTART;VALUE=DATE:20230516
DTEND;VALUE=DATE:20230517
DTSTAMP:20260419T204259
CREATED:20230516T094429Z
LAST-MODIFIED:20230516T094429Z
UID:2834-1684195200-1684281599@ajti.hu
SUMMARY:Művészeti vizsgaelőadások (színházterem)
DESCRIPTION:17:00
URL:https://ajti.hu/event/muveszeti-vizsgaeloadasok-szinhazterem-2/
END:VEVENT
BEGIN:VEVENT
DTSTART;VALUE=DATE:20230515
DTEND;VALUE=DATE:20230516
DTSTAMP:20260419T204259
CREATED:20230516T094337Z
LAST-MODIFIED:20230516T094337Z
UID:2832-1684108800-1684195199@ajti.hu
SUMMARY:Ádám Jenő Emlékhangverseny - hangversenyterem (zongoratanszak)
DESCRIPTION:18:00
URL:https://ajti.hu/event/adam-jeno-emlekhangverseny-hangversenyterem-zongoratanszak/
END:VEVENT
END:VCALENDAR