BEGIN:VCALENDAR
VERSION:2.0
PRODID:-//Szigetszentmiklósi Ádám Jenő Általános Iskola és AMI - ECPv6.11.2.1//NONSGML v1.0//EN
CALSCALE:GREGORIAN
METHOD:PUBLISH
X-WR-CALNAME:Szigetszentmiklósi Ádám Jenő Általános Iskola és AMI
X-ORIGINAL-URL:https://ajti.hu
X-WR-CALDESC:Events for Szigetszentmiklósi Ádám Jenő Általános Iskola és AMI
REFRESH-INTERVAL;VALUE=DURATION:PT1H
X-Robots-Tag:noindex
X-PUBLISHED-TTL:PT1H
BEGIN:VTIMEZONE
TZID:Europe/Paris
BEGIN:DAYLIGHT
TZOFFSETFROM:+0100
TZOFFSETTO:+0200
TZNAME:CEST
DTSTART:20220327T010000
END:DAYLIGHT
BEGIN:STANDARD
TZOFFSETFROM:+0200
TZOFFSETTO:+0100
TZNAME:CET
DTSTART:20221030T010000
END:STANDARD
BEGIN:DAYLIGHT
TZOFFSETFROM:+0100
TZOFFSETTO:+0200
TZNAME:CEST
DTSTART:20230326T010000
END:DAYLIGHT
BEGIN:STANDARD
TZOFFSETFROM:+0200
TZOFFSETTO:+0100
TZNAME:CET
DTSTART:20231029T010000
END:STANDARD
END:VTIMEZONE
BEGIN:VEVENT
DTSTART;VALUE=DATE:20230218
DTEND;VALUE=DATE:20230219
DTSTAMP:20260420T063626
CREATED:20230206T084556Z
LAST-MODIFIED:20230206T084556Z
UID:2249-1676678400-1676764799@ajti.hu
SUMMARY:Sárgaház Színház
DESCRIPTION:
URL:https://ajti.hu/event/sargahaz-szinhaz/
END:VEVENT
BEGIN:VEVENT
DTSTART;VALUE=DATE:20230217
DTEND;VALUE=DATE:20230218
DTSTAMP:20260420T063626
CREATED:20230206T084511Z
LAST-MODIFIED:20230206T084511Z
UID:2247-1676592000-1676678399@ajti.hu
SUMMARY:Zrínyi területi forduló
DESCRIPTION:
URL:https://ajti.hu/event/zrinyi-teruleti-fordulo/
END:VEVENT
BEGIN:VEVENT
DTSTART;VALUE=DATE:20230217
DTEND;VALUE=DATE:20230218
DTSTAMP:20260420T063626
CREATED:20230206T084410Z
LAST-MODIFIED:20230206T084448Z
UID:2245-1676592000-1676678399@ajti.hu
SUMMARY:Tanári Koncert és Keringő (zeneművészeti ág\, 8.évf )
DESCRIPTION:
URL:https://ajti.hu/event/tanari-koncert-es-keringo-zenemuveszeti-ag-8-evf/
END:VEVENT
BEGIN:VEVENT
DTSTART;VALUE=DATE:20230214
DTEND;VALUE=DATE:20230219
DTSTAMP:20260420T063626
CREATED:20230206T084336Z
LAST-MODIFIED:20230206T084336Z
UID:2243-1676332800-1676764799@ajti.hu
SUMMARY:Farsangi szokások (alsó\, felső tagozat)
DESCRIPTION:Újrahasznosítható anyagokból farsangi maszkok\, álarcok készítése\nMaszk\, jelmez
URL:https://ajti.hu/event/farsangi-szokasok-also-felso-tagozat/
END:VEVENT
BEGIN:VEVENT
DTSTART;TZID=Europe/Paris:20230213T170000
DTEND;TZID=Europe/Paris:20230213T183000
DTSTAMP:20260420T063626
CREATED:20230206T084121Z
LAST-MODIFIED:20230206T084121Z
UID:2237-1676307600-1676313000@ajti.hu
SUMMARY:Szülői értekezlet 8.évfolyam
DESCRIPTION:
URL:https://ajti.hu/event/szuloi-ertekezlet-8-evfolyam/
END:VEVENT
BEGIN:VEVENT
DTSTART;VALUE=DATE:20230210
DTEND;VALUE=DATE:20230211
DTSTAMP:20260420T063626
CREATED:20230206T084252Z
LAST-MODIFIED:20230206T084252Z
UID:2241-1675987200-1676073599@ajti.hu
SUMMARY:Farsangi bál
DESCRIPTION:délelőtt alsó tagozat\ndélután felső tagozat: 16:00-19:30-ig
URL:https://ajti.hu/event/farsangi-bal-2/
END:VEVENT
BEGIN:VEVENT
DTSTART;VALUE=DATE:20230208
DTEND;VALUE=DATE:20230209
DTSTAMP:20260420T063626
CREATED:20230206T084205Z
LAST-MODIFIED:20230206T084205Z
UID:2239-1675814400-1675900799@ajti.hu
SUMMARY:Szép magyar beszéd területi verseny megrendezése
DESCRIPTION:
URL:https://ajti.hu/event/szep-magyar-beszed-teruleti-verseny-megrendezese-2/
END:VEVENT
BEGIN:VEVENT
DTSTART;TZID=Europe/Paris:20230207T170000
DTEND;TZID=Europe/Paris:20230207T183000
DTSTAMP:20260420T063626
CREATED:20230206T083813Z
LAST-MODIFIED:20230206T083843Z
UID:2235-1675789200-1675794600@ajti.hu
SUMMARY:Szülői értekezlet 5-7.évfolyam
DESCRIPTION:
URL:https://ajti.hu/event/szuloi-ertekezlet-5-7-evfolyam/
END:VEVENT
BEGIN:VEVENT
DTSTART;TZID=Europe/Paris:20230206T170000
DTEND;TZID=Europe/Paris:20230206T183000
DTSTAMP:20260420T063626
CREATED:20230206T083637Z
LAST-MODIFIED:20230206T083637Z
UID:2233-1675702800-1675708200@ajti.hu
SUMMARY:Szülői értekezlet 1-4.évfolyam
DESCRIPTION:
URL:https://ajti.hu/event/szuloi-ertekezlet-1-4-evfolyam/
END:VEVENT
BEGIN:VEVENT
DTSTART;VALUE=DATE:20230206
DTEND;VALUE=DATE:20230211
DTSTAMP:20260420T063627
CREATED:20230206T083509Z
LAST-MODIFIED:20230206T083509Z
UID:2231-1675641600-1676073599@ajti.hu
SUMMARY:Továbbtanulás\, szülői egyeztetések 8. évf.
DESCRIPTION:
URL:https://ajti.hu/event/tovabbtanulas-szuloi-egyeztetesek-8-evf/
END:VEVENT
BEGIN:VEVENT
DTSTART;VALUE=DATE:20230204
DTEND;VALUE=DATE:20230205
DTSTAMP:20260420T063627
CREATED:20230206T083438Z
LAST-MODIFIED:20230206T083438Z
UID:2229-1675468800-1675555199@ajti.hu
SUMMARY:Városi Bál 8.d Keringő
DESCRIPTION:
URL:https://ajti.hu/event/varosi-bal-8-d-keringo/
END:VEVENT
BEGIN:VEVENT
DTSTART;VALUE=DATE:20230203
DTEND;VALUE=DATE:20230204
DTSTAMP:20260420T063627
CREATED:20230206T083405Z
LAST-MODIFIED:20230206T083405Z
UID:2227-1675382400-1675468799@ajti.hu
SUMMARY:Néptánc: XX. Gyermek és Ifjúsági szólótáncverseny\, Tata
DESCRIPTION:
URL:https://ajti.hu/event/neptanc-xx-gyermek-es-ifjusagi-szolotancverseny-tata/
END:VEVENT
BEGIN:VEVENT
DTSTART;VALUE=DATE:20230203
DTEND;VALUE=DATE:20230204
DTSTAMP:20260420T063627
CREATED:20230206T083337Z
LAST-MODIFIED:20230206T083337Z
UID:2225-1675382400-1675468799@ajti.hu
SUMMARY:Matekász alsó tagozat
DESCRIPTION:
URL:https://ajti.hu/event/matekasz-also-tagozat/
END:VEVENT
BEGIN:VEVENT
DTSTART;VALUE=DATE:20230131
DTEND;VALUE=DATE:20230201
DTSTAMP:20260420T063627
CREATED:20230206T083257Z
LAST-MODIFIED:20230206T083257Z
UID:2223-1675123200-1675209599@ajti.hu
SUMMARY:Félévzáró értekezlet (zeneművészeti ág)
DESCRIPTION:
URL:https://ajti.hu/event/felevzaro-ertekezlet-zenemuveszeti-ag/
END:VEVENT
BEGIN:VEVENT
DTSTART;VALUE=DATE:20230127
DTEND;VALUE=DATE:20230128
DTSTAMP:20260420T063627
CREATED:20230111T084804Z
LAST-MODIFIED:20230111T084804Z
UID:2180-1674777600-1674863999@ajti.hu
SUMMARY:Bizonyítványosztás
DESCRIPTION:
URL:https://ajti.hu/event/bizonyitvanyosztas/
END:VEVENT
BEGIN:VEVENT
DTSTART;VALUE=DATE:20230127
DTEND;VALUE=DATE:20230128
DTSTAMP:20260420T063627
CREATED:20230111T084719Z
LAST-MODIFIED:20230111T084719Z
UID:2178-1674777600-1674863999@ajti.hu
SUMMARY:A szülők értesítése – a KRÉTA felületen keresztül – a tanév I. félévében elért eredményekről.
DESCRIPTION:
URL:https://ajti.hu/event/a-szulok-ertesitese-a-kreta-feluleten-keresztul-a-tanev-i-feleveben-elert-eredmenyekrol/
END:VEVENT
BEGIN:VEVENT
DTSTART;VALUE=DATE:20230123
DTEND;VALUE=DATE:20230124
DTSTAMP:20260420T063627
CREATED:20230111T084623Z
LAST-MODIFIED:20230111T084623Z
UID:2176-1674432000-1674518399@ajti.hu
SUMMARY:„B”-s vizsga
DESCRIPTION:14:00
URL:https://ajti.hu/event/b-s-vizsga-3/
END:VEVENT
BEGIN:VEVENT
DTSTART;VALUE=DATE:20230123
DTEND;VALUE=DATE:20230124
DTSTAMP:20260420T063627
CREATED:20230111T084519Z
LAST-MODIFIED:20230111T084519Z
UID:2174-1674432000-1674518399@ajti.hu
SUMMARY:Osztályozó értekezlet
DESCRIPTION:(felső:14:00\, alsó:16:00)
URL:https://ajti.hu/event/osztalyozo-ertekezlet-2/
END:VEVENT
BEGIN:VEVENT
DTSTART;VALUE=DATE:20230123
DTEND;VALUE=DATE:20230124
DTSTAMP:20260420T063627
CREATED:20230111T084404Z
LAST-MODIFIED:20230111T084404Z
UID:2172-1674432000-1674518399@ajti.hu
SUMMARY:Megemlékezés a Magyar Kultúra Napjáról (rádiós)
DESCRIPTION:
URL:https://ajti.hu/event/megemlekezes-a-magyar-kultura-napjarol-radios-2/
END:VEVENT
BEGIN:VEVENT
DTSTART;VALUE=DATE:20230121
DTEND;VALUE=DATE:20230122
DTSTAMP:20260420T063627
CREATED:20230111T084121Z
LAST-MODIFIED:20230111T084121Z
UID:2170-1674259200-1674345599@ajti.hu
SUMMARY:Központi írásbeli vizsga
DESCRIPTION:
URL:https://ajti.hu/event/kozponti-irasbeli-vizsga/
END:VEVENT
BEGIN:VEVENT
DTSTART;VALUE=DATE:20230120
DTEND;VALUE=DATE:20230121
DTSTAMP:20260420T063627
CREATED:20230111T084056Z
LAST-MODIFIED:20230111T084056Z
UID:2168-1674172800-1674259199@ajti.hu
SUMMARY:Bendegúz iskolai forduló (nyelvtan)
DESCRIPTION:
URL:https://ajti.hu/event/bendeguz-iskolai-fordulo-nyelvtan/
END:VEVENT
BEGIN:VEVENT
DTSTART;VALUE=DATE:20230120
DTEND;VALUE=DATE:20230121
DTSTAMP:20260420T063627
CREATED:20230111T084027Z
LAST-MODIFIED:20230111T084027Z
UID:2166-1674172800-1674259199@ajti.hu
SUMMARY:I. félév szorgalmi idejének a vége
DESCRIPTION:
URL:https://ajti.hu/event/i-felev-szorgalmi-idejenek-a-vege-2/
END:VEVENT
BEGIN:VEVENT
DTSTART;TZID=Europe/Paris:20230113T143000
DTEND;TZID=Europe/Paris:20230113T153000
DTSTAMP:20260420T063627
CREATED:20230111T083934Z
LAST-MODIFIED:20230111T083934Z
UID:2164-1673620200-1673623800@ajti.hu
SUMMARY:Bolyai természettudományi verseny
DESCRIPTION:
URL:https://ajti.hu/event/bolyai-termeszettudomanyi-verseny-2/
END:VEVENT
BEGIN:VEVENT
DTSTART;VALUE=DATE:20230110
DTEND;VALUE=DATE:20230111
DTSTAMP:20260420T063627
CREATED:20230111T083843Z
LAST-MODIFIED:20230111T083843Z
UID:2162-1673308800-1673395199@ajti.hu
SUMMARY:Jelentkezési határidő a Bendegúz versenyekre
DESCRIPTION:
URL:https://ajti.hu/event/jelentkezesi-hatarido-a-bendeguz-versenyekre/
END:VEVENT
BEGIN:VEVENT
DTSTART;VALUE=DATE:20230109
DTEND;VALUE=DATE:20230121
DTSTAMP:20260420T063627
CREATED:20230111T083816Z
LAST-MODIFIED:20230111T083816Z
UID:2160-1673222400-1674259199@ajti.hu
SUMMARY:Félévi tanszaki vizsgahangversenyek
DESCRIPTION:
URL:https://ajti.hu/event/felevi-tanszaki-vizsgahangversenyek-2/
END:VEVENT
BEGIN:VEVENT
DTSTART;VALUE=DATE:20221222
DTEND;VALUE=DATE:20230109
DTSTAMP:20260420T063627
CREATED:20221202T144738Z
LAST-MODIFIED:20221202T144738Z
UID:2046-1671667200-1673222399@ajti.hu
SUMMARY:Téli szünet
DESCRIPTION:A szünet előtti utolsó tanítási nap 2022. december 20. (kedd) \nA szünet utáni első tanítási nap 2023. január 9. (hétfő) \n2022. december 21. tanítás nélküli munkanap.
URL:https://ajti.hu/event/teli-szunet/
END:VEVENT
BEGIN:VEVENT
DTSTART;TZID=Europe/Paris:20221221T080000
DTEND;TZID=Europe/Paris:20221221T120000
DTSTAMP:20260420T063627
CREATED:20221202T144518Z
LAST-MODIFIED:20221202T144518Z
UID:2044-1671609600-1671624000@ajti.hu
SUMMARY:Tantestületi Karácsony
DESCRIPTION:
URL:https://ajti.hu/event/tantestuleti-karacsony/
END:VEVENT
BEGIN:VEVENT
DTSTART;VALUE=DATE:20221220
DTEND;VALUE=DATE:20221221
DTSTAMP:20260420T063627
CREATED:20221202T144438Z
LAST-MODIFIED:20221202T144438Z
UID:2042-1671494400-1671580799@ajti.hu
SUMMARY:Osztálykarácsonyok\, karácsonyi vásár
DESCRIPTION:
URL:https://ajti.hu/event/osztalykaracsonyok-karacsonyi-vasar/
END:VEVENT
BEGIN:VEVENT
DTSTART;VALUE=DATE:20221220
DTEND;VALUE=DATE:20221221
DTSTAMP:20260420T063627
CREATED:20221202T144400Z
LAST-MODIFIED:20221202T144400Z
UID:2040-1671494400-1671580799@ajti.hu
SUMMARY:Csillagkeresés (DÖK)
DESCRIPTION:
URL:https://ajti.hu/event/csillagkereses-dok/
END:VEVENT
BEGIN:VEVENT
DTSTART;TZID=Europe/Paris:20221219T170000
DTEND;TZID=Europe/Paris:20221219T180000
DTSTAMP:20260420T063627
CREATED:20221202T144321Z
LAST-MODIFIED:20221202T144321Z
UID:2038-1671469200-1671472800@ajti.hu
SUMMARY:Karácsonyi Kóruskoncert
DESCRIPTION:
URL:https://ajti.hu/event/karacsonyi-koruskoncert/
END:VEVENT
END:VCALENDAR