BEGIN:VCALENDAR
VERSION:2.0
PRODID:-//Szigetszentmiklósi Ádám Jenő Általános Iskola és AMI - ECPv6.11.2.1//NONSGML v1.0//EN
CALSCALE:GREGORIAN
METHOD:PUBLISH
X-WR-CALNAME:Szigetszentmiklósi Ádám Jenő Általános Iskola és AMI
X-ORIGINAL-URL:https://ajti.hu
X-WR-CALDESC:Events for Szigetszentmiklósi Ádám Jenő Általános Iskola és AMI
REFRESH-INTERVAL;VALUE=DURATION:PT1H
X-Robots-Tag:noindex
X-PUBLISHED-TTL:PT1H
BEGIN:VTIMEZONE
TZID:Europe/Paris
BEGIN:DAYLIGHT
TZOFFSETFROM:+0100
TZOFFSETTO:+0200
TZNAME:CEST
DTSTART:20230326T010000
END:DAYLIGHT
BEGIN:STANDARD
TZOFFSETFROM:+0200
TZOFFSETTO:+0100
TZNAME:CET
DTSTART:20231029T010000
END:STANDARD
END:VTIMEZONE
BEGIN:VEVENT
DTSTART;VALUE=DATE:20230203
DTEND;VALUE=DATE:20230204
DTSTAMP:20260419T234009
CREATED:20230206T083337Z
LAST-MODIFIED:20230206T083337Z
UID:2225-1675382400-1675468799@ajti.hu
SUMMARY:Matekász alsó tagozat
DESCRIPTION:
URL:https://ajti.hu/event/matekasz-also-tagozat/
END:VEVENT
BEGIN:VEVENT
DTSTART;VALUE=DATE:20230203
DTEND;VALUE=DATE:20230204
DTSTAMP:20260419T234009
CREATED:20230206T083405Z
LAST-MODIFIED:20230206T083405Z
UID:2227-1675382400-1675468799@ajti.hu
SUMMARY:Néptánc: XX. Gyermek és Ifjúsági szólótáncverseny\, Tata
DESCRIPTION:
URL:https://ajti.hu/event/neptanc-xx-gyermek-es-ifjusagi-szolotancverseny-tata/
END:VEVENT
BEGIN:VEVENT
DTSTART;VALUE=DATE:20230204
DTEND;VALUE=DATE:20230205
DTSTAMP:20260419T234009
CREATED:20230206T083438Z
LAST-MODIFIED:20230206T083438Z
UID:2229-1675468800-1675555199@ajti.hu
SUMMARY:Városi Bál 8.d Keringő
DESCRIPTION:
URL:https://ajti.hu/event/varosi-bal-8-d-keringo/
END:VEVENT
BEGIN:VEVENT
DTSTART;VALUE=DATE:20230206
DTEND;VALUE=DATE:20230211
DTSTAMP:20260419T234009
CREATED:20230206T083509Z
LAST-MODIFIED:20230206T083509Z
UID:2231-1675641600-1676073599@ajti.hu
SUMMARY:Továbbtanulás\, szülői egyeztetések 8. évf.
DESCRIPTION:
URL:https://ajti.hu/event/tovabbtanulas-szuloi-egyeztetesek-8-evf/
END:VEVENT
BEGIN:VEVENT
DTSTART;TZID=Europe/Paris:20230206T170000
DTEND;TZID=Europe/Paris:20230206T183000
DTSTAMP:20260419T234009
CREATED:20230206T083637Z
LAST-MODIFIED:20230206T083637Z
UID:2233-1675702800-1675708200@ajti.hu
SUMMARY:Szülői értekezlet 1-4.évfolyam
DESCRIPTION:
URL:https://ajti.hu/event/szuloi-ertekezlet-1-4-evfolyam/
END:VEVENT
BEGIN:VEVENT
DTSTART;TZID=Europe/Paris:20230207T170000
DTEND;TZID=Europe/Paris:20230207T183000
DTSTAMP:20260419T234009
CREATED:20230206T083813Z
LAST-MODIFIED:20230206T083843Z
UID:2235-1675789200-1675794600@ajti.hu
SUMMARY:Szülői értekezlet 5-7.évfolyam
DESCRIPTION:
URL:https://ajti.hu/event/szuloi-ertekezlet-5-7-evfolyam/
END:VEVENT
BEGIN:VEVENT
DTSTART;VALUE=DATE:20230208
DTEND;VALUE=DATE:20230209
DTSTAMP:20260419T234009
CREATED:20230206T084205Z
LAST-MODIFIED:20230206T084205Z
UID:2239-1675814400-1675900799@ajti.hu
SUMMARY:Szép magyar beszéd területi verseny megrendezése
DESCRIPTION:
URL:https://ajti.hu/event/szep-magyar-beszed-teruleti-verseny-megrendezese-2/
END:VEVENT
BEGIN:VEVENT
DTSTART;VALUE=DATE:20230210
DTEND;VALUE=DATE:20230211
DTSTAMP:20260419T234009
CREATED:20230206T084252Z
LAST-MODIFIED:20230206T084252Z
UID:2241-1675987200-1676073599@ajti.hu
SUMMARY:Farsangi bál
DESCRIPTION:délelőtt alsó tagozat\ndélután felső tagozat: 16:00-19:30-ig
URL:https://ajti.hu/event/farsangi-bal-2/
END:VEVENT
BEGIN:VEVENT
DTSTART;TZID=Europe/Paris:20230213T170000
DTEND;TZID=Europe/Paris:20230213T183000
DTSTAMP:20260419T234009
CREATED:20230206T084121Z
LAST-MODIFIED:20230206T084121Z
UID:2237-1676307600-1676313000@ajti.hu
SUMMARY:Szülői értekezlet 8.évfolyam
DESCRIPTION:
URL:https://ajti.hu/event/szuloi-ertekezlet-8-evfolyam/
END:VEVENT
BEGIN:VEVENT
DTSTART;VALUE=DATE:20230214
DTEND;VALUE=DATE:20230219
DTSTAMP:20260419T234009
CREATED:20230206T084336Z
LAST-MODIFIED:20230206T084336Z
UID:2243-1676332800-1676764799@ajti.hu
SUMMARY:Farsangi szokások (alsó\, felső tagozat)
DESCRIPTION:Újrahasznosítható anyagokból farsangi maszkok\, álarcok készítése\nMaszk\, jelmez
URL:https://ajti.hu/event/farsangi-szokasok-also-felso-tagozat/
END:VEVENT
BEGIN:VEVENT
DTSTART;VALUE=DATE:20230217
DTEND;VALUE=DATE:20230218
DTSTAMP:20260419T234009
CREATED:20230206T084410Z
LAST-MODIFIED:20230206T084448Z
UID:2245-1676592000-1676678399@ajti.hu
SUMMARY:Tanári Koncert és Keringő (zeneművészeti ág\, 8.évf )
DESCRIPTION:
URL:https://ajti.hu/event/tanari-koncert-es-keringo-zenemuveszeti-ag-8-evf/
END:VEVENT
BEGIN:VEVENT
DTSTART;VALUE=DATE:20230217
DTEND;VALUE=DATE:20230218
DTSTAMP:20260419T234009
CREATED:20230206T084511Z
LAST-MODIFIED:20230206T084511Z
UID:2247-1676592000-1676678399@ajti.hu
SUMMARY:Zrínyi területi forduló
DESCRIPTION:
URL:https://ajti.hu/event/zrinyi-teruleti-fordulo/
END:VEVENT
BEGIN:VEVENT
DTSTART;VALUE=DATE:20230218
DTEND;VALUE=DATE:20230219
DTSTAMP:20260419T234009
CREATED:20230206T084556Z
LAST-MODIFIED:20230206T084556Z
UID:2249-1676678400-1676764799@ajti.hu
SUMMARY:Sárgaház Színház
DESCRIPTION:
URL:https://ajti.hu/event/sargahaz-szinhaz/
END:VEVENT
BEGIN:VEVENT
DTSTART;VALUE=DATE:20230220
DTEND;VALUE=DATE:20230221
DTSTAMP:20260419T234009
CREATED:20230206T084642Z
LAST-MODIFIED:20230206T084642Z
UID:2251-1676851200-1676937599@ajti.hu
SUMMARY:SZMK értekezlet
DESCRIPTION:17:00
URL:https://ajti.hu/event/szmk-ertekezlet/
END:VEVENT
BEGIN:VEVENT
DTSTART;VALUE=DATE:20230222
DTEND;VALUE=DATE:20230223
DTSTAMP:20260419T234009
CREATED:20230206T084709Z
LAST-MODIFIED:20230206T084709Z
UID:2253-1677024000-1677110399@ajti.hu
SUMMARY:Felvételi lapok leadási határideje
DESCRIPTION:
URL:https://ajti.hu/event/felveteli-lapok-leadasi-hatarideje/
END:VEVENT
BEGIN:VEVENT
DTSTART;VALUE=DATE:20230222
DTEND;VALUE=DATE:20230223
DTSTAMP:20260419T234009
CREATED:20230206T084749Z
LAST-MODIFIED:20230206T084749Z
UID:2255-1677024000-1677110399@ajti.hu
SUMMARY:Magyar Parasport Napja
DESCRIPTION:
URL:https://ajti.hu/event/magyar-parasport-napja/
END:VEVENT
BEGIN:VEVENT
DTSTART;TZID=Europe/Paris:20230222T180000
DTEND;TZID=Europe/Paris:20230222T190000
DTSTAMP:20260419T234009
CREATED:20230206T084840Z
LAST-MODIFIED:20230206T084840Z
UID:2257-1677088800-1677092400@ajti.hu
SUMMARY:Ónodi Sára hegedű koncert
DESCRIPTION:
URL:https://ajti.hu/event/onodi-sara-hegedu-koncert/
END:VEVENT
BEGIN:VEVENT
DTSTART;VALUE=DATE:20230223
DTEND;VALUE=DATE:20230224
DTSTAMP:20260419T234009
CREATED:20230206T084916Z
LAST-MODIFIED:20230206T084916Z
UID:2259-1677110400-1677196799@ajti.hu
SUMMARY:EKM-Sárgaház Téma: Filmzenék
DESCRIPTION:10:00
URL:https://ajti.hu/event/ekm-sargahaz-tema-filmzenek/
END:VEVENT
BEGIN:VEVENT
DTSTART;VALUE=DATE:20230227
DTEND;VALUE=DATE:20230228
DTSTAMP:20260419T234009
CREATED:20230206T085105Z
LAST-MODIFIED:20230206T085105Z
UID:2261-1677456000-1677542399@ajti.hu
SUMMARY:Szóbeli vizsgák kezdete
DESCRIPTION:
URL:https://ajti.hu/event/szobeli-vizsgak-kezdete/
END:VEVENT
BEGIN:VEVENT
DTSTART;VALUE=DATE:20230227
DTEND;VALUE=DATE:20230228
DTSTAMP:20260419T234009
CREATED:20230206T085128Z
LAST-MODIFIED:20230206T085128Z
UID:2263-1677456000-1677542399@ajti.hu
SUMMARY:Színház (alsó tagozat) Rémusz bácsi
DESCRIPTION:
URL:https://ajti.hu/event/szinhaz-also-tagozat-remusz-bacsi/
END:VEVENT
END:VCALENDAR